BEGIN:VCALENDAR
VERSION:2.0
PRODID:-//Palomar College STEM Program - ECPv6.15.20//NONSGML v1.0//EN
CALSCALE:GREGORIAN
METHOD:PUBLISH
X-WR-CALNAME:Palomar College STEM Program
X-ORIGINAL-URL:https://www.palomar.edu/stem
X-WR-CALDESC:Events for Palomar College STEM Program
REFRESH-INTERVAL;VALUE=DURATION:PT1H
X-Robots-Tag:noindex
X-PUBLISHED-TTL:PT1H
BEGIN:VTIMEZONE
TZID:America/Los_Angeles
BEGIN:DAYLIGHT
TZOFFSETFROM:-0800
TZOFFSETTO:-0700
TZNAME:PDT
DTSTART:20250309T100000
END:DAYLIGHT
BEGIN:STANDARD
TZOFFSETFROM:-0700
TZOFFSETTO:-0800
TZNAME:PST
DTSTART:20251102T090000
END:STANDARD
BEGIN:DAYLIGHT
TZOFFSETFROM:-0800
TZOFFSETTO:-0700
TZNAME:PDT
DTSTART:20260308T100000
END:DAYLIGHT
BEGIN:STANDARD
TZOFFSETFROM:-0700
TZOFFSETTO:-0800
TZNAME:PST
DTSTART:20261101T090000
END:STANDARD
BEGIN:DAYLIGHT
TZOFFSETFROM:-0800
TZOFFSETTO:-0700
TZNAME:PDT
DTSTART:20270314T100000
END:DAYLIGHT
BEGIN:STANDARD
TZOFFSETFROM:-0700
TZOFFSETTO:-0800
TZNAME:PST
DTSTART:20271107T090000
END:STANDARD
END:VTIMEZONE
BEGIN:VEVENT
DTSTART;TZID=America/Los_Angeles:20260515T140000
DTEND;TZID=America/Los_Angeles:20260515T220000
DTSTAMP:20260421T212340
CREATED:20260421T205058Z
LAST-MODIFIED:20260421T205058Z
UID:10000022-1778853600-1778882400@www.palomar.edu
SUMMARY:Finals Study Session
DESCRIPTION:Looking to get help from many different types of STEM professors for finals? Wanting to study alongside many other people to prepare? What about just wanting to join one of the biggest study sessions ever once every semester? Latinos in STEM will be hosting a Finals Study Session for students of all kinds to come together to help prepare for finals exams! Whether you just need help for 2 hours or the full 8 hours\, we will be here to help you out! Find professors of all kinds\, ranging from chemistry\, biology\, math and physics! Enjoy foods and drinks with others to create a comfortable atmosphere for all. This isn’t like your usual day at the STEM Center\, so don’t miss out! Fill out the form in the QR link or here and then you’ll be set. We hope to see you there!
URL:https://www.palomar.edu/stem/event/finals-study-session/
LOCATION:STEM Center\, 1140 West Mission Rd. Rm. NS-310\, San Marcos\, CA\, 92069\, United States
CATEGORIES:Featured,Main Calendar
ATTACH;FMTTYPE=image/png:https://www.palomar.edu/stem/wp-content/uploads/sites/105/2026/04/Finals-Study-Night-Flyer-Spring-26.png
END:VEVENT
END:VCALENDAR