BEGIN:VCALENDAR
VERSION:2.0
PRODID:-//Palomar College STEM Program - ECPv6.15.20//NONSGML v1.0//EN
CALSCALE:GREGORIAN
METHOD:PUBLISH
X-ORIGINAL-URL:https://www.palomar.edu/stem
X-WR-CALDESC:Events for Palomar College STEM Program
REFRESH-INTERVAL;VALUE=DURATION:PT1H
X-Robots-Tag:noindex
X-PUBLISHED-TTL:PT1H
BEGIN:VTIMEZONE
TZID:America/Los_Angeles
BEGIN:DAYLIGHT
TZOFFSETFROM:-0800
TZOFFSETTO:-0700
TZNAME:PDT
DTSTART:20250309T100000
END:DAYLIGHT
BEGIN:STANDARD
TZOFFSETFROM:-0700
TZOFFSETTO:-0800
TZNAME:PST
DTSTART:20251102T090000
END:STANDARD
BEGIN:DAYLIGHT
TZOFFSETFROM:-0800
TZOFFSETTO:-0700
TZNAME:PDT
DTSTART:20260308T100000
END:DAYLIGHT
BEGIN:STANDARD
TZOFFSETFROM:-0700
TZOFFSETTO:-0800
TZNAME:PST
DTSTART:20261101T090000
END:STANDARD
BEGIN:DAYLIGHT
TZOFFSETFROM:-0800
TZOFFSETTO:-0700
TZNAME:PDT
DTSTART:20270314T100000
END:DAYLIGHT
BEGIN:STANDARD
TZOFFSETFROM:-0700
TZOFFSETTO:-0800
TZNAME:PST
DTSTART:20271107T090000
END:STANDARD
END:VTIMEZONE
BEGIN:VEVENT
DTSTART;TZID=America/Los_Angeles:20260313T120000
DTEND;TZID=America/Los_Angeles:20260313T123000
DTSTAMP:20260420T213054
CREATED:20260305T213026Z
LAST-MODIFIED:20260305T213217Z
UID:10000011-1773403200-1773405000@www.palomar.edu
SUMMARY:San Diego Bird Alliance Speaker Event
DESCRIPTION:The Palomar Wildlife Club is excited to welcome Hannah St. John from the San Diego Bird Alliance! \nLearn about two special species of birds that are local to San Diego County: The Ridgway’s Rail and California Least Tern! \nAttendees will have the opportunity to learn about the habitats\, behaviors\, and conservation challenges facing these endangered coastal birds. This presentation will explore how wetlands and shoreline ecosystems support these fantastic bird species and why protecting these environments is essential to their survival. Gain insight into our local wildlife and the ongoing efforts to preserve San Diego County’s unique biodiversity. \nDATE: Friday\, March 13th  \nTIME/PLACE: 12:00pm-12:30pm in NS-326 \nRSVP Here\nBy Thur. 3/12 @ 12PM \n\n  \n*11:00am – 12:00pm for the Palomar Wildlife Club meeting in NS-326 as well.*
URL:https://www.palomar.edu/stem/event/san-diego-bird-alliance-speaker-event/
LOCATION:Natural Science Building (NS-326)\, 1140 West Mission Road\, San Marcos\, 92069\, United States
CATEGORIES:Featured,Main Calendar
END:VEVENT
END:VCALENDAR