BEGIN:VCALENDAR
VERSION:2.0
PRODID:-//Palomar College Skillshops - ECPv6.15.20//NONSGML v1.0//EN
CALSCALE:GREGORIAN
METHOD:PUBLISH
X-WR-CALNAME:Palomar College Skillshops
X-ORIGINAL-URL:https://www.palomar.edu/skillshops
X-WR-CALDESC:Events for Palomar College Skillshops
REFRESH-INTERVAL;VALUE=DURATION:PT1H
X-Robots-Tag:noindex
X-PUBLISHED-TTL:PT1H
BEGIN:VTIMEZONE
TZID:America/Los_Angeles
BEGIN:DAYLIGHT
TZOFFSETFROM:-0800
TZOFFSETTO:-0700
TZNAME:PDT
DTSTART:20250309T100000
END:DAYLIGHT
BEGIN:STANDARD
TZOFFSETFROM:-0700
TZOFFSETTO:-0800
TZNAME:PST
DTSTART:20251102T090000
END:STANDARD
BEGIN:DAYLIGHT
TZOFFSETFROM:-0800
TZOFFSETTO:-0700
TZNAME:PDT
DTSTART:20260308T100000
END:DAYLIGHT
BEGIN:STANDARD
TZOFFSETFROM:-0700
TZOFFSETTO:-0800
TZNAME:PST
DTSTART:20261101T090000
END:STANDARD
BEGIN:DAYLIGHT
TZOFFSETFROM:-0800
TZOFFSETTO:-0700
TZNAME:PDT
DTSTART:20270314T100000
END:DAYLIGHT
BEGIN:STANDARD
TZOFFSETFROM:-0700
TZOFFSETTO:-0800
TZNAME:PST
DTSTART:20271107T090000
END:STANDARD
END:VTIMEZONE
BEGIN:VEVENT
DTSTART;TZID=America/Los_Angeles:20260413T140000
DTEND;TZID=America/Los_Angeles:20260413T150000
DTSTAMP:20260420T075959
CREATED:20260406T174859Z
LAST-MODIFIED:20260406T174859Z
UID:10000562-1776088800-1776092400@www.palomar.edu
SUMMARY:Skillshop: Overcoming Emotional Spending (Virtual Only)
DESCRIPTION:Explore the ways you can help curb your emotional spending habits\, recognize wants versus needs and decrease your monthly expenses. \nThis skillshop will be offered virtually via Zoom. To register click on the RSVP button below. \nSkillshops are FREE and open to all Palomar College students.
URL:https://www.palomar.edu/skillshops/event/skillshop-overcoming-emotional-spending-virtual-only/
LOCATION:Virtual
CATEGORIES:Financial Literacy,Main Calendar,Skillshops
END:VEVENT
END:VCALENDAR