BEGIN:VCALENDAR
VERSION:2.0
PRODID:-//International Student Program - ECPv6.15.20//NONSGML v1.0//EN
CALSCALE:GREGORIAN
METHOD:PUBLISH
X-ORIGINAL-URL:https://www.palomar.edu/internationalstudents
X-WR-CALDESC:Events for International Student Program
REFRESH-INTERVAL;VALUE=DURATION:PT1H
X-Robots-Tag:noindex
X-PUBLISHED-TTL:PT1H
BEGIN:VTIMEZONE
TZID:America/Los_Angeles
BEGIN:DAYLIGHT
TZOFFSETFROM:-0800
TZOFFSETTO:-0700
TZNAME:PDT
DTSTART:20240310T100000
END:DAYLIGHT
BEGIN:STANDARD
TZOFFSETFROM:-0700
TZOFFSETTO:-0800
TZNAME:PST
DTSTART:20241103T090000
END:STANDARD
BEGIN:DAYLIGHT
TZOFFSETFROM:-0800
TZOFFSETTO:-0700
TZNAME:PDT
DTSTART:20250309T100000
END:DAYLIGHT
BEGIN:STANDARD
TZOFFSETFROM:-0700
TZOFFSETTO:-0800
TZNAME:PST
DTSTART:20251102T090000
END:STANDARD
BEGIN:DAYLIGHT
TZOFFSETFROM:-0800
TZOFFSETTO:-0700
TZNAME:PDT
DTSTART:20260308T100000
END:DAYLIGHT
BEGIN:STANDARD
TZOFFSETFROM:-0700
TZOFFSETTO:-0800
TZNAME:PST
DTSTART:20261101T090000
END:STANDARD
END:VTIMEZONE
BEGIN:VEVENT
DTSTART;VALUE=DATE:20251201
DTEND;VALUE=DATE:20251202
DTSTAMP:20260423T135012
CREATED:20230531T172015Z
LAST-MODIFIED:20251028T204352Z
UID:10000025-1764547200-1764633599@www.palomar.edu
SUMMARY:International Student Application Deadline Spring Late Transfer Applicants
DESCRIPTION:
URL:https://www.palomar.edu/internationalstudents/event/oie-application-deadline-spring-late-transfer-applicants/2025-12-01/
LOCATION:International Student Office\, 1140 W Mission Rd\, Rm: SU-103\, San Marcos\, CA\, 92069\, United States
CATEGORIES:Main Calendar
ORGANIZER;CN="International Student Office":MAILTO:International Students
END:VEVENT
BEGIN:VEVENT
DTSTART;VALUE=DATE:20251211
DTEND;VALUE=DATE:20251212
DTSTAMP:20260423T135012
CREATED:20251201T173528Z
LAST-MODIFIED:20251210T180117Z
UID:10000047-1765411200-1765497599@www.palomar.edu
SUMMARY:International Student Office Limited Hours 12/11/25
DESCRIPTION:Due to personal commitments\, the International Student Office will be open today\, December 11\, 2025 from 1:00 pm to 5:00 pm only. \nIf you need immediate assistance before 1:00 pm\, please go to the Admissions Office located in the Student Services Center. \n 
URL:https://www.palomar.edu/internationalstudents/event/international-student-office-closed-12-11-25/
LOCATION:International Student Office\, 1140 W Mission Rd\, Rm: SU-103\, San Marcos\, CA\, 92069\, United States
CATEGORIES:Main Calendar
END:VEVENT
BEGIN:VEVENT
DTSTART;VALUE=DATE:20251219
DTEND;VALUE=DATE:20251220
DTSTAMP:20260423T135012
CREATED:20251201T175002Z
LAST-MODIFIED:20251201T192754Z
UID:10000049-1766102400-1766188799@www.palomar.edu
SUMMARY:International Student Office Closed Fri\, 12/19/25
DESCRIPTION:Due to personal commitments\, the International Student Office will be closed Friday\, December 19\, 2025. \nO0.23 \n  \n  \n  \n  \n  \n  \n  \n  \n  \n  \n  \n  \n  \n  \n  \n  \n  \n  \n  \n  \n  \n  \n  \n  \n  \nn 12/19/25\, please go to the Admissions Office located in the Student Services Center for immediate assistance. \nThe International Student Office is expected to reopen on Monday\, December 22\, 2025
URL:https://www.palomar.edu/internationalstudents/event/international-student-office-closed-fri-12-19-25/
LOCATION:International Student Office\, 1140 W Mission Rd\, Rm: SU-103\, San Marcos\, CA\, 92069\, United States
CATEGORIES:Main Calendar
END:VEVENT
END:VCALENDAR