BEGIN:VCALENDAR
VERSION:2.0
PRODID:-//Health Promotion - ECPv6.15.20//NONSGML v1.0//EN
CALSCALE:GREGORIAN
METHOD:PUBLISH
X-ORIGINAL-URL:https://www.palomar.edu/healthpromotion
X-WR-CALDESC:Events for Health Promotion
REFRESH-INTERVAL;VALUE=DURATION:PT1H
X-Robots-Tag:noindex
X-PUBLISHED-TTL:PT1H
BEGIN:VTIMEZONE
TZID:America/Los_Angeles
BEGIN:DAYLIGHT
TZOFFSETFROM:-0800
TZOFFSETTO:-0700
TZNAME:PDT
DTSTART:20250309T100000
END:DAYLIGHT
BEGIN:STANDARD
TZOFFSETFROM:-0700
TZOFFSETTO:-0800
TZNAME:PST
DTSTART:20251102T090000
END:STANDARD
BEGIN:DAYLIGHT
TZOFFSETFROM:-0800
TZOFFSETTO:-0700
TZNAME:PDT
DTSTART:20260308T100000
END:DAYLIGHT
BEGIN:STANDARD
TZOFFSETFROM:-0700
TZOFFSETTO:-0800
TZNAME:PST
DTSTART:20261101T090000
END:STANDARD
BEGIN:DAYLIGHT
TZOFFSETFROM:-0800
TZOFFSETTO:-0700
TZNAME:PDT
DTSTART:20270314T100000
END:DAYLIGHT
BEGIN:STANDARD
TZOFFSETFROM:-0700
TZOFFSETTO:-0800
TZNAME:PST
DTSTART:20271107T090000
END:STANDARD
END:VTIMEZONE
BEGIN:VEVENT
DTSTART;TZID=America/Los_Angeles:20260408T130000
DTEND;TZID=America/Los_Angeles:20260408T140000
DTSTAMP:20260420T121503
CREATED:20260310T184042Z
LAST-MODIFIED:20260408T230402Z
UID:10003246-1775653200-1775656800@www.palomar.edu
SUMMARY:Skillshop: Understanding Depression and Suicide
DESCRIPTION:The Active Minds club invites students to learn about some of the triggers and risk factors associated with Depression and Suicide. We will teach you prevention and coping strategies along with tools to help someone in crisis. Walk away with resources available to you so you can take care of your mental health!   \nAttending this Hyflex workshop in person? Meet us at the Welcome Center (WC-112) on the San Marcos campus. Please RSVP to register for this  Skillshop. \nSkillshops are FREE and open to all Palomar College students.
URL:https://www.palomar.edu/healthpromotion/event/skillshop-understanding-depression-and-suicide/
LOCATION:Welcome Center Classroom: WC-112\, 1140 West Mission Road\, San Marcos\, CA\, 92069\, United States
CATEGORIES:Health & Wellness,Mental Health
ATTACH;FMTTYPE=image/png:https://www.palomar.edu/healthpromotion/wp-content/uploads/sites/14/2025/02/Depression-Skillshop-Banner.png
ORGANIZER;CN="Palomar College Health Promotion":MAILTO:swag@palomar.edu
END:VEVENT
END:VCALENDAR