BEGIN:VCALENDAR
VERSION:2.0
PRODID:-//Health Promotion - ECPv6.15.20//NONSGML v1.0//EN
CALSCALE:GREGORIAN
METHOD:PUBLISH
X-WR-CALNAME:Health Promotion
X-ORIGINAL-URL:https://www.palomar.edu/healthpromotion
X-WR-CALDESC:Events for Health Promotion
REFRESH-INTERVAL;VALUE=DURATION:PT1H
X-Robots-Tag:noindex
X-PUBLISHED-TTL:PT1H
BEGIN:VTIMEZONE
TZID:America/Los_Angeles
BEGIN:DAYLIGHT
TZOFFSETFROM:-0800
TZOFFSETTO:-0700
TZNAME:PDT
DTSTART:20250309T100000
END:DAYLIGHT
BEGIN:STANDARD
TZOFFSETFROM:-0700
TZOFFSETTO:-0800
TZNAME:PST
DTSTART:20251102T090000
END:STANDARD
BEGIN:DAYLIGHT
TZOFFSETFROM:-0800
TZOFFSETTO:-0700
TZNAME:PDT
DTSTART:20260308T100000
END:DAYLIGHT
BEGIN:STANDARD
TZOFFSETFROM:-0700
TZOFFSETTO:-0800
TZNAME:PST
DTSTART:20261101T090000
END:STANDARD
BEGIN:DAYLIGHT
TZOFFSETFROM:-0800
TZOFFSETTO:-0700
TZNAME:PDT
DTSTART:20270314T100000
END:DAYLIGHT
BEGIN:STANDARD
TZOFFSETFROM:-0700
TZOFFSETTO:-0800
TZNAME:PST
DTSTART:20271107T090000
END:STANDARD
END:VTIMEZONE
BEGIN:VEVENT
DTSTART;TZID=America/Los_Angeles:20260429T140000
DTEND;TZID=America/Los_Angeles:20260429T150000
DTSTAMP:20260425T055643
CREATED:20260202T223511Z
LAST-MODIFIED:20260202T223511Z
UID:10003158-1777471200-1777474800@www.palomar.edu
SUMMARY:Umoja Mental Health Hour
DESCRIPTION:Behavioral Health Counseling Services invites Umoja students to join the Mental Health Hour held in the Umoja Village (SU-30) on the following Wednesdays from 2:00pm to 3:00pm: \n\nApril 29\nMay 13\n\nFacilitated by BHCS Counselor\, Mercedes Tiggs\, LCSW.
URL:https://www.palomar.edu/healthpromotion/event/umoja-mental-health-hour-5/
LOCATION:Palomar College Main Campus\, 1140 W. Mission Road\, San Marcos\, CA\, 92069\, United States
CATEGORIES:Mental Health
ATTACH;FMTTYPE=image/jpeg:https://www.palomar.edu/healthpromotion/wp-content/uploads/sites/14/2026/02/Mental-Health-Hour-Spring-2026.jpg
ORGANIZER;CN="Behavioral Health Counseling Services":MAILTO:bhcs@palomar.edu
GEO:33.1487076;-117.1864082
X-APPLE-STRUCTURED-LOCATION;VALUE=URI;X-ADDRESS=Palomar College Main Campus 1140 W. Mission Road San Marcos CA 92069 United States;X-APPLE-RADIUS=500;X-TITLE=1140 W. Mission Road:geo:-117.1864082,33.1487076
END:VEVENT
END:VCALENDAR