BEGIN:VCALENDAR
VERSION:2.0
PRODID:-//Health Promotion - ECPv6.15.20//NONSGML v1.0//EN
CALSCALE:GREGORIAN
METHOD:PUBLISH
X-ORIGINAL-URL:https://www.palomar.edu/healthpromotion
X-WR-CALDESC:Events for Health Promotion
REFRESH-INTERVAL;VALUE=DURATION:PT1H
X-Robots-Tag:noindex
X-PUBLISHED-TTL:PT1H
BEGIN:VTIMEZONE
TZID:America/Los_Angeles
BEGIN:DAYLIGHT
TZOFFSETFROM:-0800
TZOFFSETTO:-0700
TZNAME:PDT
DTSTART:20250309T100000
END:DAYLIGHT
BEGIN:STANDARD
TZOFFSETFROM:-0700
TZOFFSETTO:-0800
TZNAME:PST
DTSTART:20251102T090000
END:STANDARD
BEGIN:DAYLIGHT
TZOFFSETFROM:-0800
TZOFFSETTO:-0700
TZNAME:PDT
DTSTART:20260308T100000
END:DAYLIGHT
BEGIN:STANDARD
TZOFFSETFROM:-0700
TZOFFSETTO:-0800
TZNAME:PST
DTSTART:20261101T090000
END:STANDARD
BEGIN:DAYLIGHT
TZOFFSETFROM:-0800
TZOFFSETTO:-0700
TZNAME:PDT
DTSTART:20270314T100000
END:DAYLIGHT
BEGIN:STANDARD
TZOFFSETFROM:-0700
TZOFFSETTO:-0800
TZNAME:PST
DTSTART:20271107T090000
END:STANDARD
END:VTIMEZONE
BEGIN:VEVENT
DTSTART;TZID=America/Los_Angeles:20260421T120000
DTEND;TZID=America/Los_Angeles:20260421T130000
DTSTAMP:20260419T230509
CREATED:20260408T231846Z
LAST-MODIFIED:20260416T161100Z
UID:10003320-1776772800-1776776400@www.palomar.edu
SUMMARY:Veteran Voices Workshop
DESCRIPTION:Palomar College Behavioral Health Counseling Services (BHCS) and Veterans Resource Center (VRC) present \nVeteran Voices\nJoin us for mental health workshops focused on serving those who have or are still currently serving in the military on Tuesdays 12-1pm. \nFacilitated by BHCS counselor Kim Lesnick\, LCSW. \nWeekly topics include:\n\nApril 14 – Who am I?\nApril 21 – Who are you?\nApril 28 – Family Adjustments\nMay 5 – Introduction to Grief\n\nThe VRC is located in ST-52 at the San Marcos campus.
URL:https://www.palomar.edu/healthpromotion/event/veteran-voices-workshop-2/
LOCATION:Palomar College Main Campus\, 1140 W. Mission Road\, San Marcos\, CA\, 92069\, United States
CATEGORIES:Featured,Health & Wellness,Mental Health
ATTACH;FMTTYPE=image/jpeg:https://www.palomar.edu/healthpromotion/wp-content/uploads/sites/14/2026/04/Veteran-Voices-banner.jpg
ORGANIZER;CN="Behavioral Health Counseling Services":MAILTO:bhcs@palomar.edu
GEO:33.1487076;-117.1864082
X-APPLE-STRUCTURED-LOCATION;VALUE=URI;X-ADDRESS=Palomar College Main Campus 1140 W. Mission Road San Marcos CA 92069 United States;X-APPLE-RADIUS=500;X-TITLE=1140 W. Mission Road:geo:-117.1864082,33.1487076
END:VEVENT
BEGIN:VEVENT
DTSTART;TZID=America/Los_Angeles:20260423T140000
DTEND;TZID=America/Los_Angeles:20260423T150000
DTSTAMP:20260419T230509
CREATED:20260310T181234Z
LAST-MODIFIED:20260416T161109Z
UID:10003244-1776952800-1776956400@www.palomar.edu
SUMMARY:A Seat at the Table: Bridging Our Worlds
DESCRIPTION:Palomar College APAHE and Behavioral Health Counseling Services invite all students to join an AANHPI Wellness & Joy Series held on the following Thursdays in NB-1 (Health Promotion) at the San Marcos campus and on Zoom. No registration required – just show up and join the fun! \nRoots & Radiance\nHonoring Our Story. Bridging Our Worlds. Embracing Our Joy.\n\nApril 23 • 2:00 PM – 3:00 PM\nA Seat at the Table: Bridging Our Worlds – In honor of AANHPI Month\, we’re heading to the heart of our homes. Let’s talk about navigating family dynamics and cultural expectations while building a bridge between our heritage and our campus lives.\nMay 7 • 2:00 PM – 3:00 PM\nCultivating Gratitude and Self-Compassion– As the semester winds down\, we will explore how gratitude is expressed within AANHPI cultures while focusing on the most resilient thing we can do: being kind to ourselves. Practice tools for gratitude and self-compassion that allow your inner radiance to thrive through finals and beyond.\n\nThese workshops are facilitated by BHCS counselor Alison Ratermann\, ASW and presented by AANHPI Initiatives. For inquiries\, contact Dr. Angela Kong at akong@palomar.edu.
URL:https://www.palomar.edu/healthpromotion/event/a-seat-at-the-table-bridging-our-worlds/
LOCATION:Palomar College Health Promotion\, 1140 West Mission Rd.\, San Marcos\, CA\, 92069\, United States
CATEGORIES:Featured,Health & Wellness,Mental Health
ATTACH;FMTTYPE=image/jpeg:https://www.palomar.edu/healthpromotion/wp-content/uploads/sites/14/2026/03/AANHPI-Wellness-Series-Banner.jpg
ORGANIZER;CN="Behavioral Health Counseling Services":MAILTO:bhcs@palomar.edu
END:VEVENT
BEGIN:VEVENT
DTSTART;TZID=America/Los_Angeles:20260505T090000
DTEND;TZID=America/Los_Angeles:20260505T150000
DTSTAMP:20260419T230509
CREATED:20251219T220744Z
LAST-MODIFIED:20260416T161123Z
UID:10003143-1777971600-1777993200@www.palomar.edu
SUMMARY:Blood Drive
DESCRIPTION:Every 2 seconds\, someone in the U.S. needs blood. Help Save Lives. Give Blood.\nPalomar College Health Services and Palomar Black Faculty & Staff Association (PBFSA) are hosting an American Red Cross Blood Drive at the San Marcos campus on Tuesday\, May 5th and Wednesday\, May 6th from 9:00am to 3:00pm. \nParking\nFree event parking is available in Parking Lot #12 and the Parking Structure. \nIncentives\nCome to give blood May 1-17 and get a $20 e-gift card\, thanks to Amazon! For more details\, see: American Red Cross website. \nAppointments\n\nTo schedule an appointment and for more information visit the American Red Cross website. Enter sponsor code: PalomarSM.\nStreamline your donation experience and save up to 15 minutes by visiting the Rapid Pass website to complete your pre-donation reading and health history questions on the day of your appointment!\nCheck in for your scheduled appointment at our table located in front of the Library (LRC) at the San Marcos campus.
URL:https://www.palomar.edu/healthpromotion/event/blood-drive/
LOCATION:Palomar College Library (LRC)\, 1140 West Mission Rd.\, San Marcos\, CA\, 92069\, United States
CATEGORIES:Featured,Health & Wellness
ATTACH;FMTTYPE=image/jpeg:https://www.palomar.edu/healthpromotion/wp-content/uploads/sites/14/2025/12/May-Blood-Drive-TW-1.jpg
ORGANIZER;CN="Student Health Centers":MAILTO:studenthealthcenters@palomar.edu
END:VEVENT
END:VCALENDAR