BEGIN:VCALENDAR
VERSION:2.0
PRODID:-//Enrollment Services - ECPv6.15.20//NONSGML v1.0//EN
CALSCALE:GREGORIAN
METHOD:PUBLISH
X-WR-CALNAME:Enrollment Services
X-ORIGINAL-URL:https://www.palomar.edu/enrollmentservices
X-WR-CALDESC:Events for Enrollment Services
REFRESH-INTERVAL;VALUE=DURATION:PT1H
X-Robots-Tag:noindex
X-PUBLISHED-TTL:PT1H
BEGIN:VTIMEZONE
TZID:America/Los_Angeles
BEGIN:DAYLIGHT
TZOFFSETFROM:-0800
TZOFFSETTO:-0700
TZNAME:PDT
DTSTART:20250309T100000
END:DAYLIGHT
BEGIN:STANDARD
TZOFFSETFROM:-0700
TZOFFSETTO:-0800
TZNAME:PST
DTSTART:20251102T090000
END:STANDARD
BEGIN:DAYLIGHT
TZOFFSETFROM:-0800
TZOFFSETTO:-0700
TZNAME:PDT
DTSTART:20260308T100000
END:DAYLIGHT
BEGIN:STANDARD
TZOFFSETFROM:-0700
TZOFFSETTO:-0800
TZNAME:PST
DTSTART:20261101T090000
END:STANDARD
BEGIN:DAYLIGHT
TZOFFSETFROM:-0800
TZOFFSETTO:-0700
TZNAME:PDT
DTSTART:20270314T100000
END:DAYLIGHT
BEGIN:STANDARD
TZOFFSETFROM:-0700
TZOFFSETTO:-0800
TZNAME:PST
DTSTART:20271107T090000
END:STANDARD
END:VTIMEZONE
BEGIN:VEVENT
DTSTART;TZID=America/Los_Angeles:20260406T080000
DTEND;TZID=America/Los_Angeles:20260406T170000
DTSTAMP:20260424T123753
CREATED:20260420T163552Z
LAST-MODIFIED:20260420T163630Z
UID:10000407-1775462400-1775494800@www.palomar.edu
SUMMARY:Summer/Fall Class schedule Available/MyPalomar
DESCRIPTION:Search for classes by term\, session\, course\, class format\, campus\, transfer or degree requirements\, or even days\, times\, or instructors to find the classes that best fit your needs. \nFor help creating an Education Plan and selecting courses\, contact a counselor.
URL:https://www.palomar.edu/enrollmentservices/event/summer-fall-class-schedule-available-mypalomar/
END:VEVENT
END:VCALENDAR