BEGIN:VCALENDAR
VERSION:2.0
PRODID:-//Enrollment Services - ECPv6.15.20//NONSGML v1.0//EN
CALSCALE:GREGORIAN
METHOD:PUBLISH
X-WR-CALNAME:Enrollment Services
X-ORIGINAL-URL:https://www.palomar.edu/enrollmentservices
X-WR-CALDESC:Events for Enrollment Services
REFRESH-INTERVAL;VALUE=DURATION:PT1H
X-Robots-Tag:noindex
X-PUBLISHED-TTL:PT1H
BEGIN:VTIMEZONE
TZID:America/Los_Angeles
BEGIN:DAYLIGHT
TZOFFSETFROM:-0800
TZOFFSETTO:-0700
TZNAME:PDT
DTSTART:20250309T100000
END:DAYLIGHT
BEGIN:STANDARD
TZOFFSETFROM:-0700
TZOFFSETTO:-0800
TZNAME:PST
DTSTART:20251102T090000
END:STANDARD
BEGIN:DAYLIGHT
TZOFFSETFROM:-0800
TZOFFSETTO:-0700
TZNAME:PDT
DTSTART:20260308T100000
END:DAYLIGHT
BEGIN:STANDARD
TZOFFSETFROM:-0700
TZOFFSETTO:-0800
TZNAME:PST
DTSTART:20261101T090000
END:STANDARD
BEGIN:DAYLIGHT
TZOFFSETFROM:-0800
TZOFFSETTO:-0700
TZNAME:PDT
DTSTART:20270314T100000
END:DAYLIGHT
BEGIN:STANDARD
TZOFFSETFROM:-0700
TZOFFSETTO:-0800
TZNAME:PST
DTSTART:20271107T090000
END:STANDARD
END:VTIMEZONE
BEGIN:VEVENT
DTSTART;VALUE=DATE:20260321
DTEND;VALUE=DATE:20260322
DTSTAMP:20260424T205049
CREATED:20220614T160603Z
LAST-MODIFIED:20250729T230422Z
UID:10000174-1774051200-1774137599@www.palomar.edu
SUMMARY:Spring Fast Track 1 Ends
DESCRIPTION:Fast-track courses\, which are eight weeks in duration\, are offered throughout the calendar year. The work that students complete in a semester-length class is compressed into eight weeks. These classes are intensive\, but they allow students to move quickly to advanced study or to a career.
URL:https://www.palomar.edu/enrollmentservices/event/spring-fast-track-1-ends/
CATEGORIES:Academic Calendar
END:VEVENT
BEGIN:VEVENT
DTSTART;VALUE=DATE:20260323
DTEND;VALUE=DATE:20260328
DTSTAMP:20260424T205049
CREATED:20230602T174653Z
LAST-MODIFIED:20250729T215820Z
UID:10000298-1774224000-1774655999@www.palomar.edu
SUMMARY:Spring Break Begins
DESCRIPTION:All Palomar College campuses are closed and classes are not in session.
URL:https://www.palomar.edu/enrollmentservices/event/spring-break-3/
CATEGORIES:Academic Calendar
END:VEVENT
BEGIN:VEVENT
DTSTART;VALUE=DATE:20260327
DTEND;VALUE=DATE:20260401
DTSTAMP:20260424T205049
CREATED:20250729T215921Z
LAST-MODIFIED:20250729T215936Z
UID:10000392-1774569600-1775001599@www.palomar.edu
SUMMARY:Spring Break End
DESCRIPTION:All Palomar College campuses are closed and classes are not in session.
URL:https://www.palomar.edu/enrollmentservices/event/spring-break-end/
CATEGORIES:Academic Calendar
END:VEVENT
BEGIN:VEVENT
DTSTART;VALUE=DATE:20260330
DTEND;VALUE=DATE:20260331
DTSTAMP:20260424T205049
CREATED:20220614T160604Z
LAST-MODIFIED:20250729T230525Z
UID:10000175-1774828800-1774915199@www.palomar.edu
SUMMARY:Spring Fast Track 2 Begins
DESCRIPTION:Fast-track courses\, which are eight weeks in duration\, are offered throughout the calendar year. The work that students complete in a semester-length class is compressed into eight weeks. These classes are intensive\, but they allow students to move quickly to advanced study or to a career.
URL:https://www.palomar.edu/enrollmentservices/event/spring-fast-track-2-begins/
CATEGORIES:Academic Calendar,Main Calendar
END:VEVENT
BEGIN:VEVENT
DTSTART;TZID=America/Los_Angeles:20260406T080000
DTEND;TZID=America/Los_Angeles:20260406T170000
DTSTAMP:20260424T205049
CREATED:20260420T163552Z
LAST-MODIFIED:20260420T163630Z
UID:10000407-1775462400-1775494800@www.palomar.edu
SUMMARY:Summer/Fall Class schedule Available/MyPalomar
DESCRIPTION:Search for classes by term\, session\, course\, class format\, campus\, transfer or degree requirements\, or even days\, times\, or instructors to find the classes that best fit your needs. \nFor help creating an Education Plan and selecting courses\, contact a counselor.
URL:https://www.palomar.edu/enrollmentservices/event/summer-fall-class-schedule-available-mypalomar/
END:VEVENT
BEGIN:VEVENT
DTSTART;VALUE=DATE:20260430
DTEND;VALUE=DATE:20260501
DTSTAMP:20260424T205049
CREATED:20260420T162313Z
LAST-MODIFIED:20260420T162313Z
UID:10000405-1777507200-1777593599@www.palomar.edu
SUMMARY:Summer/Fall Registration Appointments emailed
DESCRIPTION:Students are provided a Priority Registration Appointment prior to each term’s registration cycle. You will be sent an email notification about one week prior to registration beginning letting you know your Priority Registration Appointment date has been set. Instructions for finding your appointment time are here. \nEnrollment Priority Procedure \n 
URL:https://www.palomar.edu/enrollmentservices/event/summer-fall-registration-appointments-emailed/
CATEGORIES:Academic Calendar,Enrollment Services,International Student Academic Calendar,Main Calendar,Registration
END:VEVENT
BEGIN:VEVENT
DTSTART;VALUE=DATE:20260504
DTEND;VALUE=DATE:20260505
DTSTAMP:20260424T205049
CREATED:20260420T162106Z
LAST-MODIFIED:20260420T162106Z
UID:10000403-1777852800-1777939199@www.palomar.edu
SUMMARY:Summer/Fall Priority Registration Begins
DESCRIPTION:Students are provided a Priority Registration Appointment prior to each term’s registration cycle. You will be sent an email notification about one week prior to registration beginning letting you know your Priority Registration Appointment date has been set. Instructions for finding your appointment time are here. \nEnrollment Priority Procedure \n 
URL:https://www.palomar.edu/enrollmentservices/event/summer-fall-priority-registration-begins/
CATEGORIES:Academic Calendar,Enrollment Services,International Student Academic Calendar,Main Calendar,Registration
END:VEVENT
BEGIN:VEVENT
DTSTART;VALUE=DATE:20260511
DTEND;VALUE=DATE:20260512
DTSTAMP:20260424T205049
CREATED:20260420T162159Z
LAST-MODIFIED:20260420T162159Z
UID:10000404-1778457600-1778543999@www.palomar.edu
SUMMARY:Summer/Fall Open Registration Begins
DESCRIPTION:Students are provided a Priority Registration Appointment prior to each term’s registration cycle. You will be sent an email notification about one week prior to registration beginning letting you know your Priority Registration Appointment date has been set. Instructions for finding your appointment time are here. \nEnrollment Priority Procedure \n 
URL:https://www.palomar.edu/enrollmentservices/event/summer-fall-open-registration-begins/
CATEGORIES:Academic Calendar,Enrollment Services,International Student Academic Calendar,Main Calendar,Registration
END:VEVENT
BEGIN:VEVENT
DTSTART;VALUE=DATE:20260522
DTEND;VALUE=DATE:20260523
DTSTAMP:20260424T205049
CREATED:20241029T213010Z
LAST-MODIFIED:20260309T201147Z
UID:10000355-1779408000-1779494399@www.palomar.edu
SUMMARY:Spring Commencement
DESCRIPTION:Commencement Day! Congratulations Class of 2025! Visit this site for additional information.
URL:https://www.palomar.edu/enrollmentservices/event/spring-commencement/
CATEGORIES:Academic Calendar
END:VEVENT
BEGIN:VEVENT
DTSTART;VALUE=DATE:20260523
DTEND;VALUE=DATE:20260524
DTSTAMP:20260424T205049
CREATED:20220614T160604Z
LAST-MODIFIED:20260108T200934Z
UID:10000176-1779494400-1779580799@www.palomar.edu
SUMMARY:Spring Fast Track 2 Ends
DESCRIPTION:Fast-track courses\, which are eight weeks in duration\, are offered throughout the calendar year. The work that students complete in a semester-length class is compressed into eight weeks. These classes are intensive\, but they allow students to move quickly to advanced study or to a career. \nPlease visit our Academic Calendar Page.
URL:https://www.palomar.edu/enrollmentservices/event/spring-fast-track-2-ends/
CATEGORIES:Academic Calendar,Main Calendar
END:VEVENT
BEGIN:VEVENT
DTSTART;VALUE=DATE:20260525
DTEND;VALUE=DATE:20260526
DTSTAMP:20260424T205049
CREATED:20230602T174707Z
LAST-MODIFIED:20250729T215542Z
UID:10000299-1779667200-1779753599@www.palomar.edu
SUMMARY:Memorial Day
DESCRIPTION:All Palomar College campuses are closed and classes are not in session.
URL:https://www.palomar.edu/enrollmentservices/event/memorial-day-3/
CATEGORIES:Academic Calendar
END:VEVENT
BEGIN:VEVENT
DTSTART;VALUE=DATE:20260531
DTEND;VALUE=DATE:20260601
DTSTAMP:20260424T205049
CREATED:20230602T174708Z
LAST-MODIFIED:20250729T224719Z
UID:10000300-1780185600-1780271999@www.palomar.edu
SUMMARY:Spring Semester Ends
DESCRIPTION:A regular semester course of 16 weeks.
URL:https://www.palomar.edu/enrollmentservices/event/spring-semester-ends-3/
CATEGORIES:Academic Calendar
END:VEVENT
BEGIN:VEVENT
DTSTART;TZID=America/Los_Angeles:20260615T080000
DTEND;TZID=America/Los_Angeles:20260615T170000
DTSTAMP:20260424T205049
CREATED:20260420T163749Z
LAST-MODIFIED:20260420T163749Z
UID:10000408-1781510400-1781542800@www.palomar.edu
SUMMARY:Summer Session Begins
DESCRIPTION:Summer session: \nJune 15-August 8
URL:https://www.palomar.edu/enrollmentservices/event/summer-session-begins/
END:VEVENT
END:VCALENDAR