BEGIN:VCALENDAR
VERSION:2.0
PRODID:-//Diversity, Equity, Inclusion, Accessibility and Antiracism - ECPv6.15.20//NONSGML v1.0//EN
CALSCALE:GREGORIAN
METHOD:PUBLISH
X-ORIGINAL-URL:https://www.palomar.edu/deiaa
X-WR-CALDESC:Events for Diversity, Equity, Inclusion, Accessibility and Antiracism
REFRESH-INTERVAL;VALUE=DURATION:PT1H
X-Robots-Tag:noindex
X-PUBLISHED-TTL:PT1H
BEGIN:VTIMEZONE
TZID:America/Los_Angeles
BEGIN:DAYLIGHT
TZOFFSETFROM:-0800
TZOFFSETTO:-0700
TZNAME:PDT
DTSTART:20220313T100000
END:DAYLIGHT
BEGIN:STANDARD
TZOFFSETFROM:-0700
TZOFFSETTO:-0800
TZNAME:PST
DTSTART:20221106T090000
END:STANDARD
BEGIN:DAYLIGHT
TZOFFSETFROM:-0800
TZOFFSETTO:-0700
TZNAME:PDT
DTSTART:20230312T100000
END:DAYLIGHT
BEGIN:STANDARD
TZOFFSETFROM:-0700
TZOFFSETTO:-0800
TZNAME:PST
DTSTART:20231105T090000
END:STANDARD
BEGIN:DAYLIGHT
TZOFFSETFROM:-0800
TZOFFSETTO:-0700
TZNAME:PDT
DTSTART:20240310T100000
END:DAYLIGHT
BEGIN:STANDARD
TZOFFSETFROM:-0700
TZOFFSETTO:-0800
TZNAME:PST
DTSTART:20241103T090000
END:STANDARD
END:VTIMEZONE
BEGIN:VEVENT
DTSTART;TZID=America/Los_Angeles:20230426T120000
DTEND;TZID=America/Los_Angeles:20230426T130000
DTSTAMP:20260423T033909
CREATED:20230414T224422Z
LAST-MODIFIED:20230414T224442Z
UID:10000071-1682510400-1682514000@www.palomar.edu
SUMMARY:Coffee with a Cop
DESCRIPTION:The mission of Coffee with a Cop is to break down the barriers between police officers and the communities they serve and to provide the opportunity for conversations about issues that matter. Free Coffee. Casual Conversation. \nIn-Person (Outside TLC-SM)
URL:https://www.palomar.edu/deiaa/event/coffee-with-a-cop/
LOCATION:TLC-San Marcos
CATEGORIES:Black Student Success Week,DEIAA
ATTACH;FMTTYPE=image/jpeg:https://www.palomar.edu/deiaa/wp-content/uploads/sites/201/2023/04/BSSW.jpg
END:VEVENT
END:VCALENDAR