BEGIN:VCALENDAR
VERSION:2.0
PRODID:-//Diversity, Equity, Inclusion, Accessibility and Antiracism - ECPv6.15.20//NONSGML v1.0//EN
CALSCALE:GREGORIAN
METHOD:PUBLISH
X-WR-CALNAME:Diversity, Equity, Inclusion, Accessibility and Antiracism
X-ORIGINAL-URL:https://www.palomar.edu/deiaa
X-WR-CALDESC:Events for Diversity, Equity, Inclusion, Accessibility and Antiracism
REFRESH-INTERVAL;VALUE=DURATION:PT1H
X-Robots-Tag:noindex
X-PUBLISHED-TTL:PT1H
BEGIN:VTIMEZONE
TZID:America/Los_Angeles
BEGIN:DAYLIGHT
TZOFFSETFROM:-0800
TZOFFSETTO:-0700
TZNAME:PDT
DTSTART:20220313T100000
END:DAYLIGHT
BEGIN:STANDARD
TZOFFSETFROM:-0700
TZOFFSETTO:-0800
TZNAME:PST
DTSTART:20221106T090000
END:STANDARD
BEGIN:DAYLIGHT
TZOFFSETFROM:-0800
TZOFFSETTO:-0700
TZNAME:PDT
DTSTART:20230312T100000
END:DAYLIGHT
BEGIN:STANDARD
TZOFFSETFROM:-0700
TZOFFSETTO:-0800
TZNAME:PST
DTSTART:20231105T090000
END:STANDARD
BEGIN:DAYLIGHT
TZOFFSETFROM:-0800
TZOFFSETTO:-0700
TZNAME:PDT
DTSTART:20240310T100000
END:DAYLIGHT
BEGIN:STANDARD
TZOFFSETFROM:-0700
TZOFFSETTO:-0800
TZNAME:PST
DTSTART:20241103T090000
END:STANDARD
END:VTIMEZONE
BEGIN:VEVENT
DTSTART;TZID=America/Los_Angeles:20230427T143000
DTEND;TZID=America/Los_Angeles:20230427T163000
DTSTAMP:20260423T050428
CREATED:20230414T223616Z
LAST-MODIFIED:20230414T224507Z
UID:10000070-1682605800-1682613000@www.palomar.edu
SUMMARY:The Benefits of Art Therapy and Creating your own emotional monster workshop
DESCRIPTION:Come learn about how art therapy can help relieve stress\, cope with past trauma\, and keep you mentally prepared for the challenges of higher education.
URL:https://www.palomar.edu/deiaa/event/the-benefits-of-art-therapy-and-creating-your-own-emotional-monster-workshop/
LOCATION:MD-217
CATEGORIES:Black Student Success Week,DEIAA,Main Calendar
ATTACH;FMTTYPE=image/jpeg:https://www.palomar.edu/deiaa/wp-content/uploads/sites/201/2023/04/BSSW.jpg
END:VEVENT
BEGIN:VEVENT
DTSTART;TZID=America/Los_Angeles:20230426T123000
DTEND;TZID=America/Los_Angeles:20230426T140000
DTSTAMP:20260423T050428
CREATED:20230414T223454Z
LAST-MODIFIED:20230414T224526Z
UID:10000068-1682512200-1682517600@www.palomar.edu
SUMMARY:Skillshop: How to Write a Personal Statement
DESCRIPTION:Come learn how to highlight your assets and accomplishments for scholarship and college applications
URL:https://www.palomar.edu/deiaa/event/skillshop-how-to-write-a-personal-statement/
LOCATION:MD-217
CATEGORIES:Black Student Success Week,DEIAA,Main Calendar
ATTACH;FMTTYPE=image/jpeg:https://www.palomar.edu/deiaa/wp-content/uploads/sites/201/2023/04/BSSW.jpg
END:VEVENT
END:VCALENDAR