BEGIN:VCALENDAR
VERSION:2.0
PRODID:-//Diversity, Equity, Inclusion, Accessibility and Antiracism - ECPv6.15.20//NONSGML v1.0//EN
CALSCALE:GREGORIAN
METHOD:PUBLISH
X-WR-CALNAME:Diversity, Equity, Inclusion, Accessibility and Antiracism
X-ORIGINAL-URL:https://www.palomar.edu/deiaa
X-WR-CALDESC:Events for Diversity, Equity, Inclusion, Accessibility and Antiracism
REFRESH-INTERVAL;VALUE=DURATION:PT1H
X-Robots-Tag:noindex
X-PUBLISHED-TTL:PT1H
BEGIN:VTIMEZONE
TZID:America/Los_Angeles
BEGIN:DAYLIGHT
TZOFFSETFROM:-0800
TZOFFSETTO:-0700
TZNAME:PDT
DTSTART:20220313T100000
END:DAYLIGHT
BEGIN:STANDARD
TZOFFSETFROM:-0700
TZOFFSETTO:-0800
TZNAME:PST
DTSTART:20221106T090000
END:STANDARD
BEGIN:DAYLIGHT
TZOFFSETFROM:-0800
TZOFFSETTO:-0700
TZNAME:PDT
DTSTART:20230312T100000
END:DAYLIGHT
BEGIN:STANDARD
TZOFFSETFROM:-0700
TZOFFSETTO:-0800
TZNAME:PST
DTSTART:20231105T090000
END:STANDARD
BEGIN:DAYLIGHT
TZOFFSETFROM:-0800
TZOFFSETTO:-0700
TZNAME:PDT
DTSTART:20240310T100000
END:DAYLIGHT
BEGIN:STANDARD
TZOFFSETFROM:-0700
TZOFFSETTO:-0800
TZNAME:PST
DTSTART:20241103T090000
END:STANDARD
END:VTIMEZONE
BEGIN:VEVENT
DTSTART;TZID=America/Los_Angeles:20230115T140000
DTEND;TZID=America/Los_Angeles:20230115T170000
DTSTAMP:20260423T075617
CREATED:20221208T175029Z
LAST-MODIFIED:20221208T175029Z
UID:10000043-1673791200-1673802000@www.palomar.edu
SUMMARY:41st. Annual Dr. Martin Luther King Jr. Parade
DESCRIPTION:“Keeping the Dream Alive. We’re Better Together!” \nJoin us to march together representing Palomar College as we honor the life and legacy of Dr. Martin Luther King Jr. \n  \nRSVP: https://forms.office.com/r/N9P19B1z5n
URL:https://www.palomar.edu/deiaa/event/41st-annual-dr-martin-luther-king-jr-parade/
LOCATION:Harbor Dr. – Embarcadero
CATEGORIES:DEIAA,Main Calendar
END:VEVENT
END:VCALENDAR