BEGIN:VCALENDAR
VERSION:2.0
PRODID:-//Diversity, Equity, Inclusion, Accessibility and Antiracism - ECPv6.15.20//NONSGML v1.0//EN
CALSCALE:GREGORIAN
METHOD:PUBLISH
X-ORIGINAL-URL:https://www.palomar.edu/deiaa
X-WR-CALDESC:Events for Diversity, Equity, Inclusion, Accessibility and Antiracism
REFRESH-INTERVAL;VALUE=DURATION:PT1H
X-Robots-Tag:noindex
X-PUBLISHED-TTL:PT1H
BEGIN:VTIMEZONE
TZID:America/Los_Angeles
BEGIN:DAYLIGHT
TZOFFSETFROM:-0800
TZOFFSETTO:-0700
TZNAME:PDT
DTSTART:20220313T100000
END:DAYLIGHT
BEGIN:STANDARD
TZOFFSETFROM:-0700
TZOFFSETTO:-0800
TZNAME:PST
DTSTART:20221106T090000
END:STANDARD
BEGIN:DAYLIGHT
TZOFFSETFROM:-0800
TZOFFSETTO:-0700
TZNAME:PDT
DTSTART:20230312T100000
END:DAYLIGHT
BEGIN:STANDARD
TZOFFSETFROM:-0700
TZOFFSETTO:-0800
TZNAME:PST
DTSTART:20231105T090000
END:STANDARD
BEGIN:DAYLIGHT
TZOFFSETFROM:-0800
TZOFFSETTO:-0700
TZNAME:PDT
DTSTART:20240310T100000
END:DAYLIGHT
BEGIN:STANDARD
TZOFFSETFROM:-0700
TZOFFSETTO:-0800
TZNAME:PST
DTSTART:20241103T090000
END:STANDARD
END:VTIMEZONE
BEGIN:VEVENT
DTSTART;TZID=America/Los_Angeles:20230127T100000
DTEND;TZID=America/Los_Angeles:20230127T150000
DTSTAMP:20260423T114914
CREATED:20230123T193037Z
LAST-MODIFIED:20230123T193404Z
UID:10000049-1674813600-1674831600@www.palomar.edu
SUMMARY:Social Justice Community Festival
DESCRIPTION:Join us for an inclusive and engaging exploration of Diversity\, Equity\, Inclusion\, Accessibility\, and Antiracism practice\, mindset and community. The Festival will  be held on January 27\, 2023\, from 10am to 3pm at the Palomar Performing Arts complex. Food will be provided. \nSJCF Schedule 2023 \nHosted by the Educators for Equity\, Diversity\, and Cultural Consciousness (EEDCC) at Palomar College
URL:https://www.palomar.edu/deiaa/event/social-justice-community-festival/
LOCATION:Palomar Performing Arts Complex\, 1140 W. Mission Rd\, San Marcos\, 92069
CATEGORIES:DEIAA,Main Calendar
END:VEVENT
END:VCALENDAR