BEGIN:VCALENDAR
VERSION:2.0
PRODID:-//Diversity, Equity, Inclusion, Accessibility and Antiracism - ECPv6.15.20//NONSGML v1.0//EN
CALSCALE:GREGORIAN
METHOD:PUBLISH
X-WR-CALNAME:Diversity, Equity, Inclusion, Accessibility and Antiracism
X-ORIGINAL-URL:https://www.palomar.edu/deiaa
X-WR-CALDESC:Events for Diversity, Equity, Inclusion, Accessibility and Antiracism
REFRESH-INTERVAL;VALUE=DURATION:PT1H
X-Robots-Tag:noindex
X-PUBLISHED-TTL:PT1H
BEGIN:VTIMEZONE
TZID:America/Los_Angeles
BEGIN:DAYLIGHT
TZOFFSETFROM:-0800
TZOFFSETTO:-0700
TZNAME:PDT
DTSTART:20210314T100000
END:DAYLIGHT
BEGIN:STANDARD
TZOFFSETFROM:-0700
TZOFFSETTO:-0800
TZNAME:PST
DTSTART:20211107T090000
END:STANDARD
BEGIN:DAYLIGHT
TZOFFSETFROM:-0800
TZOFFSETTO:-0700
TZNAME:PDT
DTSTART:20220313T100000
END:DAYLIGHT
BEGIN:STANDARD
TZOFFSETFROM:-0700
TZOFFSETTO:-0800
TZNAME:PST
DTSTART:20221106T090000
END:STANDARD
BEGIN:DAYLIGHT
TZOFFSETFROM:-0800
TZOFFSETTO:-0700
TZNAME:PDT
DTSTART:20230312T100000
END:DAYLIGHT
BEGIN:STANDARD
TZOFFSETFROM:-0700
TZOFFSETTO:-0800
TZNAME:PST
DTSTART:20231105T090000
END:STANDARD
BEGIN:DAYLIGHT
TZOFFSETFROM:-0800
TZOFFSETTO:-0700
TZNAME:PDT
DTSTART:20240310T100000
END:DAYLIGHT
BEGIN:STANDARD
TZOFFSETFROM:-0700
TZOFFSETTO:-0800
TZNAME:PST
DTSTART:20241103T090000
END:STANDARD
END:VTIMEZONE
BEGIN:VEVENT
DTSTART;TZID=America/Los_Angeles:20230421T173000
DTEND;TZID=America/Los_Angeles:20230421T200000
DTSTAMP:20260423T015825
CREATED:20230407T153804Z
LAST-MODIFIED:20250930T002447Z
UID:10000053-1682098200-1682107200@www.palomar.edu
SUMMARY:Tarde de Familia 2023
DESCRIPTION:Explore and learn about Palomar College programs and services for Latinx Students. \nGet Connected with Palomar College professors and staff. \nLearn how to support your student’s academic and career goals. \nFree Food\, Drawings & Entertainment. \nNo RSVP Necessary \nProgram will be in Spanish
URL:https://www.palomar.edu/deiaa/event/tarde-de-familia-2/
LOCATION:Student Union
CATEGORIES:HSI,Main Calendar
ORGANIZER;CN="ALASS":MAILTO:alass@palomar.edu
END:VEVENT
BEGIN:VEVENT
DTSTART;TZID=America/Los_Angeles:20221202T173000
DTEND;TZID=America/Los_Angeles:20221202T200000
DTSTAMP:20260423T015825
CREATED:20221118T235740Z
LAST-MODIFIED:20250930T002505Z
UID:10000042-1670002200-1670011200@www.palomar.edu
SUMMARY:Tarde de Familia 2022
DESCRIPTION:Tarde de Familia is an evening for Palomar College families to learn and explore Palomar College programs and services. \nFree Food\, Drawings and Entertainment \nProgram will be in Spanish \n  \nRequest disability related accommodations 5 days prior to the event at alass@palomar.edu
URL:https://www.palomar.edu/deiaa/event/tarde-de-familia/
LOCATION:Student Union
CATEGORIES:DEIAA,HSI,Main Calendar
ORGANIZER;CN="ALASS":MAILTO:alass@palomar.edu
END:VEVENT
END:VCALENDAR