BEGIN:VCALENDAR
VERSION:2.0
PRODID:-//Diversity, Equity, Inclusion, Accessibility and Antiracism - ECPv6.15.20//NONSGML v1.0//EN
CALSCALE:GREGORIAN
METHOD:PUBLISH
X-ORIGINAL-URL:https://www.palomar.edu/deiaa
X-WR-CALDESC:Events for Diversity, Equity, Inclusion, Accessibility and Antiracism
REFRESH-INTERVAL;VALUE=DURATION:PT1H
X-Robots-Tag:noindex
X-PUBLISHED-TTL:PT1H
BEGIN:VTIMEZONE
TZID:America/Los_Angeles
BEGIN:DAYLIGHT
TZOFFSETFROM:-0800
TZOFFSETTO:-0700
TZNAME:PDT
DTSTART:20240310T100000
END:DAYLIGHT
BEGIN:STANDARD
TZOFFSETFROM:-0700
TZOFFSETTO:-0800
TZNAME:PST
DTSTART:20241103T090000
END:STANDARD
BEGIN:DAYLIGHT
TZOFFSETFROM:-0800
TZOFFSETTO:-0700
TZNAME:PDT
DTSTART:20250309T100000
END:DAYLIGHT
BEGIN:STANDARD
TZOFFSETFROM:-0700
TZOFFSETTO:-0800
TZNAME:PST
DTSTART:20251102T090000
END:STANDARD
BEGIN:DAYLIGHT
TZOFFSETFROM:-0800
TZOFFSETTO:-0700
TZNAME:PDT
DTSTART:20260308T100000
END:DAYLIGHT
BEGIN:STANDARD
TZOFFSETFROM:-0700
TZOFFSETTO:-0800
TZNAME:PST
DTSTART:20261101T090000
END:STANDARD
END:VTIMEZONE
BEGIN:VEVENT
DTSTART;VALUE=DATE:20251001
DTEND;VALUE=DATE:20251101
DTSTAMP:20260420T075916
CREATED:20250924T014844Z
LAST-MODIFIED:20250924T014844Z
UID:10000090-1759276800-1761955199@www.palomar.edu
SUMMARY:Disability Employment Awareness Month
DESCRIPTION:Recognizes the important role people with disabilities play in a diverse and inclusive workforce. It promotes employment equity\, accessibility\, and the elimination of barriers to meaningful work.
URL:https://www.palomar.edu/deiaa/event/disability-employment-awareness-month/
CATEGORIES:Awareness,Main Calendar
ATTACH;FMTTYPE=image/jpeg:https://www.palomar.edu/deiaa/wp-content/uploads/sites/201/2025/09/Disability-Employment-Awareness-Month.jpg
END:VEVENT
BEGIN:VEVENT
DTSTART;TZID=America/Los_Angeles:20251007T100000
DTEND;TZID=America/Los_Angeles:20251007T130000
DTSTAMP:20260420T075916
CREATED:20250924T011952Z
LAST-MODIFIED:20250924T011952Z
UID:10000086-1759831200-1759842000@www.palomar.edu
SUMMARY:Human Trafficking Prevention Event
DESCRIPTION:Presentation and Resource Fair \nGuest Speaker: Community Leader and Author Armand King \nWhen: October 7\, 2025 from 10am – 1pm\, with the presentation starting 12pm \nWhere: Student Union \nLight refreshments provided\, this event is hosted in partnership with the Basic Needs Hub\, Student Life and Leadership (ASG Comet Hour) and the DEIAA Office.
URL:https://www.palomar.edu/deiaa/event/human-trafficking-prevention-event/
CATEGORIES:Awareness,Main Calendar
ATTACH;FMTTYPE=image/jpeg:https://www.palomar.edu/deiaa/wp-content/uploads/sites/201/2025/09/AntiHumanTrafficking-1920x1080-1.jpg
END:VEVENT
END:VCALENDAR