BEGIN:VCALENDAR
VERSION:2.0
PRODID:-//Diversity, Equity, Inclusion, Accessibility and Antiracism - ECPv6.15.20//NONSGML v1.0//EN
CALSCALE:GREGORIAN
METHOD:PUBLISH
X-ORIGINAL-URL:https://www.palomar.edu/deiaa
X-WR-CALDESC:Events for Diversity, Equity, Inclusion, Accessibility and Antiracism
REFRESH-INTERVAL;VALUE=DURATION:PT1H
X-Robots-Tag:noindex
X-PUBLISHED-TTL:PT1H
BEGIN:VTIMEZONE
TZID:America/Los_Angeles
BEGIN:DAYLIGHT
TZOFFSETFROM:-0800
TZOFFSETTO:-0700
TZNAME:PDT
DTSTART:20240310T100000
END:DAYLIGHT
BEGIN:STANDARD
TZOFFSETFROM:-0700
TZOFFSETTO:-0800
TZNAME:PST
DTSTART:20241103T090000
END:STANDARD
BEGIN:DAYLIGHT
TZOFFSETFROM:-0800
TZOFFSETTO:-0700
TZNAME:PDT
DTSTART:20250309T100000
END:DAYLIGHT
BEGIN:STANDARD
TZOFFSETFROM:-0700
TZOFFSETTO:-0800
TZNAME:PST
DTSTART:20251102T090000
END:STANDARD
BEGIN:DAYLIGHT
TZOFFSETFROM:-0800
TZOFFSETTO:-0700
TZNAME:PDT
DTSTART:20260308T100000
END:DAYLIGHT
BEGIN:STANDARD
TZOFFSETFROM:-0700
TZOFFSETTO:-0800
TZNAME:PST
DTSTART:20261101T090000
END:STANDARD
END:VTIMEZONE
BEGIN:VEVENT
DTSTART;VALUE=DATE:20250901
DTEND;VALUE=DATE:20251001
DTSTAMP:20260420T093256
CREATED:20250723T183002Z
LAST-MODIFIED:20250828T014539Z
UID:10000075-1756684800-1759276799@www.palomar.edu
SUMMARY:Deaf Awareness Month
DESCRIPTION:Recognizes the culture\, history\, and achievements of the Deaf and hard-of-hearing community. It also promotes inclusion\, language accessibility\, and respect for Deaf identity and American Sign Language (ASL).
URL:https://www.palomar.edu/deiaa/event/deaf-awareness-month/
CATEGORIES:Awareness,DEIAA,Main Calendar
ATTACH;FMTTYPE=image/jpeg:https://www.palomar.edu/deiaa/wp-content/uploads/sites/201/2025/07/Deaf-Awareness-Month-08-31-23_1-scaled.jpg
END:VEVENT
BEGIN:VEVENT
DTSTART;VALUE=DATE:20250901
DTEND;VALUE=DATE:20251001
DTSTAMP:20260420T093256
CREATED:20250828T015613Z
LAST-MODIFIED:20250828T015613Z
UID:10000080-1756684800-1759276799@www.palomar.edu
SUMMARY:Suicide Prevention Awareness Month
DESCRIPTION:Aims to raise awareness about mental health\, reduce stigma\, and promote resources for those affected by suicide. It encourages open dialogue\, early intervention\, and community support to help save lives.
URL:https://www.palomar.edu/deiaa/event/suicide-prevention-awareness-month/
CATEGORIES:Awareness,DEIAA,Main Calendar
ATTACH;FMTTYPE=image/jpeg:https://www.palomar.edu/deiaa/wp-content/uploads/sites/201/2025/08/Suicide-Prevention-Month-08-24-Resized_1.jpg
END:VEVENT
BEGIN:VEVENT
DTSTART;VALUE=DATE:20250911
DTEND;VALUE=DATE:20250912
DTSTAMP:20260420T093257
CREATED:20250828T020634Z
LAST-MODIFIED:20250828T020634Z
UID:10000084-1757548800-1757635199@www.palomar.edu
SUMMARY:September 11th Remembrance Day
DESCRIPTION:Honors the nearly 3\,000 lives lost in the terrorist attacks on September 11\, 2001\, and pays tribute to the courage of first responders and survivors. It serves as a solemn day of reflection\, unity\, and national resilience.
URL:https://www.palomar.edu/deiaa/event/september-11th-remembrance-day/
CATEGORIES:Awareness,DEIAA,Main Calendar
ATTACH;FMTTYPE=image/jpeg:https://www.palomar.edu/deiaa/wp-content/uploads/sites/201/2025/08/911-Remembrance-Day-9-11-2024_1-scaled.jpg
END:VEVENT
END:VCALENDAR