BEGIN:VCALENDAR
VERSION:2.0
PRODID:-//Student Success, Equity, and Counseling Division - ECPv6.15.20//NONSGML v1.0//EN
CALSCALE:GREGORIAN
METHOD:PUBLISH
X-ORIGINAL-URL:https://www.palomar.edu/csdivision
X-WR-CALDESC:Events for Student Success, Equity, and Counseling Division
REFRESH-INTERVAL;VALUE=DURATION:PT1H
X-Robots-Tag:noindex
X-PUBLISHED-TTL:PT1H
BEGIN:VTIMEZONE
TZID:America/Los_Angeles
BEGIN:DAYLIGHT
TZOFFSETFROM:-0800
TZOFFSETTO:-0700
TZNAME:PDT
DTSTART:20210314T100000
END:DAYLIGHT
BEGIN:STANDARD
TZOFFSETFROM:-0700
TZOFFSETTO:-0800
TZNAME:PST
DTSTART:20211107T090000
END:STANDARD
BEGIN:DAYLIGHT
TZOFFSETFROM:-0800
TZOFFSETTO:-0700
TZNAME:PDT
DTSTART:20220313T100000
END:DAYLIGHT
BEGIN:STANDARD
TZOFFSETFROM:-0700
TZOFFSETTO:-0800
TZNAME:PST
DTSTART:20221106T090000
END:STANDARD
BEGIN:DAYLIGHT
TZOFFSETFROM:-0800
TZOFFSETTO:-0700
TZNAME:PDT
DTSTART:20230312T100000
END:DAYLIGHT
BEGIN:STANDARD
TZOFFSETFROM:-0700
TZOFFSETTO:-0800
TZNAME:PST
DTSTART:20231105T090000
END:STANDARD
END:VTIMEZONE
BEGIN:VEVENT
DTSTART;TZID=America/Los_Angeles:20221129T150000
DTEND;TZID=America/Los_Angeles:20221129T160000
DTSTAMP:20260423T134559
CREATED:20221031T213343Z
LAST-MODIFIED:20221128T234703Z
UID:10000734-1669734000-1669737600@www.palomar.edu
SUMMARY:CSU Application Workshop
DESCRIPTION:Please join the Transfer Center Canvas Community prior to registering for a workshop.\nLinks to register can be found on the Transfer Canvas Community Calendar.
URL:https://www.palomar.edu/csdivision/event/csu-application-workshop-24/
CATEGORIES:Skillshops,Transfer Center
END:VEVENT
BEGIN:VEVENT
DTSTART;TZID=America/Los_Angeles:20221118T130000
DTEND;TZID=America/Los_Angeles:20221118T140000
DTSTAMP:20260423T134559
CREATED:20221019T184726Z
LAST-MODIFIED:20221118T231707Z
UID:10000731-1668776400-1668780000@www.palomar.edu
SUMMARY:CSU Application Workshop
DESCRIPTION:Please join the Transfer Center Canvas Community prior to registering for a workshop.\nLinks to register can be found on the Transfer Canvas Community Calendar.
URL:https://www.palomar.edu/csdivision/event/csu-application-workshop-23/
CATEGORIES:Skillshops,Transfer Center
END:VEVENT
BEGIN:VEVENT
DTSTART;TZID=America/Los_Angeles:20221115T150000
DTEND;TZID=America/Los_Angeles:20221115T160000
DTSTAMP:20260423T134559
CREATED:20221016T183229Z
LAST-MODIFIED:20221115T230224Z
UID:10000815-1668524400-1668528000@www.palomar.edu
SUMMARY:UC Application Workshop
DESCRIPTION:Please join the Transfer Center Canvas Community prior to registering for a workshop.\nLinks to register can be found on the Transfer Canvas Community Calendar.
URL:https://www.palomar.edu/csdivision/event/uc-application-workshop-9/
LOCATION:Transfer Center (SSC-24)
CATEGORIES:Skillshops,Transfer Center
END:VEVENT
BEGIN:VEVENT
DTSTART;TZID=America/Los_Angeles:20221110T140000
DTEND;TZID=America/Los_Angeles:20221110T150000
DTSTAMP:20260423T134559
CREATED:20221011T181759Z
LAST-MODIFIED:20221110T223212Z
UID:10000813-1668088800-1668092400@www.palomar.edu
SUMMARY:UC Application Workshop
DESCRIPTION:Please join the Transfer Center Canvas Community prior to registering for a workshop.\nLinks to register can be found on the Transfer Canvas Community Calendar.
URL:https://www.palomar.edu/csdivision/event/uc-application-workshop-8/
LOCATION:Transfer Center (SSC-24)
CATEGORIES:Skillshops,Transfer Center
END:VEVENT
BEGIN:VEVENT
DTSTART;TZID=America/Los_Angeles:20221110T110000
DTEND;TZID=America/Los_Angeles:20221110T120000
DTSTAMP:20260423T134559
CREATED:20221011T181758Z
LAST-MODIFIED:20221110T223211Z
UID:10000812-1668078000-1668081600@www.palomar.edu
SUMMARY:Transfer Center Hosted: TLC Skillshop
DESCRIPTION:Date\nTime\nWorkshop &  \nRegistration Link\n\n\nThursday\, 9/29\n3:00pm-4:00pm\nCreating a Transfer Foundation:  \nThe Nuts and Bolts\n\n\nThursday\, 10/13\n3:00pm-4:00pm\nTransfer Strategies and Planning\n\n\nThursday\, 11/3\n11:00am-12:00pm\nCreating a Transfer Foundation:  \nThe Nuts and Bolts\n\n\nThursday\, 11/10\n11:00pm-12:00pm\nTransfer Strategies and Planning
URL:https://www.palomar.edu/csdivision/event/transfer-center-hosted-tlc-skillshop-4/
CATEGORIES:Skillshops,Transfer Center
ATTACH;FMTTYPE=image/png:https://www.palomar.edu/csdivision/wp-content/uploads/sites/99/2022/09/Fall-2022-Transfer-Center-Skillshop-Workshops-1-wpipjU.tmp_.png
END:VEVENT
BEGIN:VEVENT
DTSTART;TZID=America/Los_Angeles:20221109T120000
DTEND;TZID=America/Los_Angeles:20221109T130000
DTSTAMP:20260423T134559
CREATED:20221010T181714Z
LAST-MODIFIED:20221109T221748Z
UID:10000809-1667995200-1667998800@www.palomar.edu
SUMMARY:CSU Application Workshop
DESCRIPTION:Please join the Transfer Center Canvas Community prior to registering for a workshop.\nLinks to register can be found on the Transfer Canvas Community Calendar.
URL:https://www.palomar.edu/csdivision/event/csu-application-workshop-22/
CATEGORIES:Skillshops,Transfer Center
END:VEVENT
BEGIN:VEVENT
DTSTART;TZID=America/Los_Angeles:20221103T110000
DTEND;TZID=America/Los_Angeles:20221103T120000
DTSTAMP:20260423T134559
CREATED:20221004T173212Z
LAST-MODIFIED:20221103T220404Z
UID:10000804-1667473200-1667476800@www.palomar.edu
SUMMARY:Transfer Center Hosted: TLC Skillshop
DESCRIPTION:Date\nTime\nWorkshop &  \nRegistration Link\n\n\nThursday\, 9/29\n3:00pm-4:00pm\nCreating a Transfer Foundation:  \nThe Nuts and Bolts\n\n\nThursday\, 10/13\n3:00pm-4:00pm\nTransfer Strategies and Planning\n\n\nThursday\, 11/3\n11:00am-12:00pm\nCreating a Transfer Foundation:  \nThe Nuts and Bolts\n\n\nThursday\, 11/10\n11:00pm-12:00pm\nTransfer Strategies and Planning
URL:https://www.palomar.edu/csdivision/event/transfer-center-hosted-tlc-skillshop-3/
CATEGORIES:Skillshops,Transfer Center
ATTACH;FMTTYPE=image/png:https://www.palomar.edu/csdivision/wp-content/uploads/sites/99/2022/09/Fall-2022-Transfer-Center-Skillshop-Workshops-1-wpipjU.tmp_.png
END:VEVENT
BEGIN:VEVENT
DTSTART;TZID=America/Los_Angeles:20221102T150000
DTEND;TZID=America/Los_Angeles:20221102T160000
DTSTAMP:20260423T134559
CREATED:20221003T173217Z
LAST-MODIFIED:20221102T220217Z
UID:10000803-1667401200-1667404800@www.palomar.edu
SUMMARY:IN-PERSON CSU Application Workshop
DESCRIPTION:Please join the Transfer Center Canvas Community prior to registering for a workshop.\n\nIn-Person Workshop space is LIMITED.  Please request using this link: \nhttps://www.palomar.edu/transfercenter/fall-2022-csu-application-sign-up/ \n**You will get a confirmation email when you have been added**
URL:https://www.palomar.edu/csdivision/event/in-person-csu-application-workshop-2/
LOCATION:LRC
CATEGORIES:Skillshops,Transfer Center
END:VEVENT
BEGIN:VEVENT
DTSTART;TZID=America/Los_Angeles:20221027T153000
DTEND;TZID=America/Los_Angeles:20221027T163000
DTSTAMP:20260423T134559
CREATED:20220927T173207Z
LAST-MODIFIED:20221027T195046Z
UID:10000802-1666884600-1666888200@www.palomar.edu
SUMMARY:UC Application Workshop
DESCRIPTION:Please join the Transfer Center Canvas Community prior to registering for a workshop.\nLinks to register can be found on the Transfer Canvas Community Calendar.
URL:https://www.palomar.edu/csdivision/event/uc-application-workshop-7/
LOCATION:Transfer Center (SSC-24)
CATEGORIES:Skillshops,Transfer Center
END:VEVENT
BEGIN:VEVENT
DTSTART;TZID=America/Los_Angeles:20221025T170000
DTEND;TZID=America/Los_Angeles:20221025T180000
DTSTAMP:20260423T134559
CREATED:20220925T171709Z
LAST-MODIFIED:20221025T193402Z
UID:10000800-1666717200-1666720800@www.palomar.edu
SUMMARY:IN-PERSON CSU Application Workshop
DESCRIPTION:Please join the Transfer Center Canvas Community prior to registering for a workshop.\n\nIn-Person Workshop space is LIMITED.  Please request using this link: \nhttps://www.palomar.edu/transfercenter/fall-2022-csu-application-sign-up/ \n**You will get a confirmation email when you have been added**
URL:https://www.palomar.edu/csdivision/event/in-person-csu-application-workshop/
LOCATION:LRC
CATEGORIES:Skillshops,Transfer Center
END:VEVENT
BEGIN:VEVENT
DTSTART;TZID=America/Los_Angeles:20221020T140000
DTEND;TZID=America/Los_Angeles:20221020T150000
DTSTAMP:20260423T134559
CREATED:20220920T170225Z
LAST-MODIFIED:20221020T184737Z
UID:10000797-1666274400-1666278000@www.palomar.edu
SUMMARY:CSU Application Workshop
DESCRIPTION:Please join the Transfer Center Canvas Community prior to registering for a workshop.\nLinks to register can be found on the Transfer Canvas Community Calendar.
URL:https://www.palomar.edu/csdivision/event/csu-application-workshop-21/
CATEGORIES:Skillshops,Transfer Center
END:VEVENT
BEGIN:VEVENT
DTSTART;TZID=America/Los_Angeles:20221018T100000
DTEND;TZID=America/Los_Angeles:20221018T110000
DTSTAMP:20260423T134559
CREATED:20220918T170238Z
LAST-MODIFIED:20221018T183204Z
UID:10000795-1666087200-1666090800@www.palomar.edu
SUMMARY:UC Application Workshop
DESCRIPTION:Please join the Transfer Center Canvas Community prior to registering for a workshop.\nLinks to register can be found on the Transfer Canvas Community Calendar.
URL:https://www.palomar.edu/csdivision/event/uc-application-workshop-6/
LOCATION:Transfer Center (SSC-24)
CATEGORIES:Skillshops,Transfer Center
END:VEVENT
BEGIN:VEVENT
DTSTART;TZID=America/Los_Angeles:20221015T100000
DTEND;TZID=America/Los_Angeles:20221015T110000
DTSTAMP:20260423T134559
CREATED:20220915T163248Z
LAST-MODIFIED:20221015T181705Z
UID:10000786-1665828000-1665831600@www.palomar.edu
SUMMARY:CSU Application Workshop
DESCRIPTION:Please join the Transfer Center Canvas Community prior to registering for a workshop.\nLinks to register can be found on the Transfer Canvas Community Calendar.
URL:https://www.palomar.edu/csdivision/event/csu-application-workshop-20/
CATEGORIES:Skillshops,Transfer Center
END:VEVENT
BEGIN:VEVENT
DTSTART;TZID=America/Los_Angeles:20221013T150000
DTEND;TZID=America/Los_Angeles:20221013T160000
DTSTAMP:20260423T134559
CREATED:20220913T163220Z
LAST-MODIFIED:20221013T181747Z
UID:10000784-1665673200-1665676800@www.palomar.edu
SUMMARY:Transfer Center Hosted: TLC Skillshop
DESCRIPTION:Date\nTime\nWorkshop &  \nRegistration Link\n\n\nThursday\, 9/29\n3:00pm-4:00pm\nCreating a Transfer Foundation:  \nThe Nuts and Bolts\n\n\nThursday\, 10/13\n3:00pm-4:00pm\nTransfer Strategies and Planning\n\n\nThursday\, 11/3\n11:00am-12:00pm\nCreating a Transfer Foundation:  \nThe Nuts and Bolts\n\n\nThursday\, 11/10\n11:00pm-12:00pm\nTransfer Strategies and Planning
URL:https://www.palomar.edu/csdivision/event/transfer-center-hosted-tlc-skillshop-2/
CATEGORIES:Skillshops,Transfer Center
ATTACH;FMTTYPE=image/png:https://www.palomar.edu/csdivision/wp-content/uploads/sites/99/2022/09/Fall-2022-Transfer-Center-Skillshop-Workshops-1-wpipjU.tmp_.png
END:VEVENT
BEGIN:VEVENT
DTSTART;TZID=America/Los_Angeles:20221012T140000
DTEND;TZID=America/Los_Angeles:20221012T150000
DTSTAMP:20260423T134559
CREATED:20220912T163226Z
LAST-MODIFIED:20221012T181727Z
UID:10000782-1665583200-1665586800@www.palomar.edu
SUMMARY:CSU Application Workshop
DESCRIPTION:Please join the Transfer Center Canvas Community prior to registering for a workshop.\nLinks to register can be found on the Transfer Canvas Community Calendar.
URL:https://www.palomar.edu/csdivision/event/csu-application-workshop-19/
CATEGORIES:Main Calendar,Skillshops,Transfer Center
END:VEVENT
BEGIN:VEVENT
DTSTART;TZID=America/Los_Angeles:20221004T150000
DTEND;TZID=America/Los_Angeles:20221004T160000
DTSTAMP:20260423T134559
CREATED:20220904T151706Z
LAST-MODIFIED:20221004T173207Z
UID:10000778-1664895600-1664899200@www.palomar.edu
SUMMARY:CSU Application Workshop
DESCRIPTION:Please join the Transfer Center Canvas Community prior to registering for a workshop.\nLinks to register can be found on the Transfer Canvas Community Calendar.
URL:https://www.palomar.edu/csdivision/event/csu-application-workshop-18/
CATEGORIES:Main Calendar,Skillshops,Transfer Center
END:VEVENT
BEGIN:VEVENT
DTSTART;TZID=America/Los_Angeles:20220929T150000
DTEND;TZID=America/Los_Angeles:20220929T160000
DTSTAMP:20260423T134559
CREATED:20220913T163216Z
LAST-MODIFIED:20220929T173223Z
UID:10000783-1664463600-1664467200@www.palomar.edu
SUMMARY:Transfer Center Hosted: TLC Skillshop
DESCRIPTION:Date\nTime\nWorkshop &  \nRegistration Link\n\n\nThursday\, 9/29\n3:00pm-4:00pm\nCreating a Transfer Foundation:  \nThe Nuts and Bolts\n\n\nThursday\, 10/13\n3:00pm-4:00pm\nTransfer Strategies and Planning\n\n\nThursday\, 11/3\n11:00am-12:00pm\nCreating a Transfer Foundation:  \nThe Nuts and Bolts\n\n\nThursday\, 11/10\n11:00pm-12:00pm\nTransfer Strategies and Planning
URL:https://www.palomar.edu/csdivision/event/transfer-center-hosted-tlc-skillshop/
CATEGORIES:Skillshops,Transfer Center
ATTACH;FMTTYPE=image/png:https://www.palomar.edu/csdivision/wp-content/uploads/sites/99/2022/09/Fall-2022-Transfer-Center-Skillshop-Workshops-1-wpipjU.tmp_.png
END:VEVENT
BEGIN:VEVENT
DTSTART;TZID=America/Los_Angeles:20220928T150000
DTEND;TZID=America/Los_Angeles:20220928T160000
DTSTAMP:20260423T134559
CREATED:20220829T151706Z
LAST-MODIFIED:20220928T173239Z
UID:10000772-1664377200-1664380800@www.palomar.edu
SUMMARY:UC TAG Application Workshop
DESCRIPTION:Please join the Transfer Center Canvas Community prior to registering for a workshop.\nLinks to register can be found on the Transfer Canvas Community Calendar.
URL:https://www.palomar.edu/csdivision/event/uc-tag-application-workshop-4/
LOCATION:Transfer Center (SSC-24)
CATEGORIES:Main Calendar,Skillshops,Transfer Center
ATTACH;FMTTYPE=image/png:https://www.palomar.edu/csdivision/wp-content/uploads/sites/99/2022/08/Fall-2022-TAG-Workshops-1-sD0nlg.tmp_.png
END:VEVENT
BEGIN:VEVENT
DTSTART;TZID=America/Los_Angeles:20220914T100000
DTEND;TZID=America/Los_Angeles:20220914T110000
DTSTAMP:20260423T134559
CREATED:20220823T144749Z
LAST-MODIFIED:20220914T163203Z
UID:10000771-1663149600-1663153200@www.palomar.edu
SUMMARY:UC TAG Application Workshop
DESCRIPTION:Please join the Transfer Center Canvas Community prior to registering for a workshop.\nLinks to register can be found on the Transfer Canvas Community Calendar.
URL:https://www.palomar.edu/csdivision/event/uc-tag-application-workshop-3/
LOCATION:Transfer Center (SSC-24)
CATEGORIES:Main Calendar,Skillshops,Transfer Center
ATTACH;FMTTYPE=image/png:https://www.palomar.edu/csdivision/wp-content/uploads/sites/99/2022/08/Fall-2022-TAG-Workshops-1-sD0nlg.tmp_.png
END:VEVENT
BEGIN:VEVENT
DTSTART;TZID=America/Los_Angeles:20220913T140000
DTEND;TZID=America/Los_Angeles:20220913T150000
DTSTAMP:20260423T134559
CREATED:20220814T140323Z
LAST-MODIFIED:20220822T144940Z
UID:10000770-1663077600-1663081200@www.palomar.edu
SUMMARY:UC TAG Application Workshop
DESCRIPTION:Please join the Transfer Center Canvas Community prior to registering for a workshop.\nLinks to register can be found on the Transfer Canvas Community Calendar.
URL:https://www.palomar.edu/csdivision/event/uc-tag-application-workshop-2/
LOCATION:Transfer Center (SSC-24)
CATEGORIES:Main Calendar,Skillshops,Transfer Center
ATTACH;FMTTYPE=image/png:https://www.palomar.edu/csdivision/wp-content/uploads/sites/99/2022/08/Fall-2022-TAG-Workshops-gQLJuo.tmp_.png
END:VEVENT
BEGIN:VEVENT
DTSTART;TZID=America/Los_Angeles:20220901T150000
DTEND;TZID=America/Los_Angeles:20220901T160000
DTSTAMP:20260423T134559
CREATED:20220802T131710Z
LAST-MODIFIED:20220901T151741Z
UID:10000769-1662044400-1662048000@www.palomar.edu
SUMMARY:UC TAG Application Workshop
DESCRIPTION:Please join the Transfer Center Canvas Community prior to registering for a workshop.\nLinks to register can be found on the Transfer Canvas Community Calendar.
URL:https://www.palomar.edu/csdivision/event/uc-tag-application-workshop/
LOCATION:Transfer Center (SSC-24)
CATEGORIES:Main Calendar,Skillshops,Transfer Center
ATTACH;FMTTYPE=image/png:https://www.palomar.edu/csdivision/wp-content/uploads/sites/99/2022/08/Fall-2022-TAG-Workshops-1-sD0nlg.tmp_.png
END:VEVENT
BEGIN:VEVENT
DTSTART;TZID=America/Los_Angeles:20220831T120000
DTEND;TZID=America/Los_Angeles:20220831T130000
DTSTAMP:20260423T134559
CREATED:20220801T130306Z
LAST-MODIFIED:20220831T151848Z
UID:10000761-1661947200-1661950800@www.palomar.edu
SUMMARY:CSU Application Workshop
DESCRIPTION:Please join the Transfer Center Canvas Community prior to registering for a workshop.\nLinks to register can be found on the Transfer Canvas Community Calendar.
URL:https://www.palomar.edu/csdivision/event/csu-application-workshop-17/
LOCATION:Transfer Center (SSC-24)
CATEGORIES:Main Calendar,Skillshops,Transfer Center
ATTACH;FMTTYPE=image/png:https://www.palomar.edu/csdivision/wp-content/uploads/sites/99/2022/07/Summer-2022-CSU-Application-Workshops-aUrz9D.tmp_.png
END:VEVENT
END:VCALENDAR