BEGIN:VCALENDAR
VERSION:2.0
PRODID:-//Student Success, Equity, and Counseling Division - ECPv6.15.20//NONSGML v1.0//EN
CALSCALE:GREGORIAN
METHOD:PUBLISH
X-ORIGINAL-URL:https://www.palomar.edu/csdivision
X-WR-CALDESC:Events for Student Success, Equity, and Counseling Division
REFRESH-INTERVAL;VALUE=DURATION:PT1H
X-Robots-Tag:noindex
X-PUBLISHED-TTL:PT1H
BEGIN:VTIMEZONE
TZID:America/Los_Angeles
BEGIN:DAYLIGHT
TZOFFSETFROM:-0800
TZOFFSETTO:-0700
TZNAME:PDT
DTSTART:20210314T100000
END:DAYLIGHT
BEGIN:STANDARD
TZOFFSETFROM:-0700
TZOFFSETTO:-0800
TZNAME:PST
DTSTART:20211107T090000
END:STANDARD
BEGIN:DAYLIGHT
TZOFFSETFROM:-0800
TZOFFSETTO:-0700
TZNAME:PDT
DTSTART:20220313T100000
END:DAYLIGHT
BEGIN:STANDARD
TZOFFSETFROM:-0700
TZOFFSETTO:-0800
TZNAME:PST
DTSTART:20221106T090000
END:STANDARD
BEGIN:DAYLIGHT
TZOFFSETFROM:-0800
TZOFFSETTO:-0700
TZNAME:PDT
DTSTART:20230312T100000
END:DAYLIGHT
BEGIN:STANDARD
TZOFFSETFROM:-0700
TZOFFSETTO:-0800
TZNAME:PST
DTSTART:20231105T090000
END:STANDARD
END:VTIMEZONE
BEGIN:VEVENT
DTSTART;TZID=America/Los_Angeles:20220913T110000
DTEND;TZID=America/Los_Angeles:20220913T130000
DTSTAMP:20260423T163223
CREATED:20220902T160235Z
LAST-MODIFIED:20220913T164721Z
UID:10000773-1663066800-1663074000@www.palomar.edu
SUMMARY:Career Coffee Hour-Pala Mesa Resort
DESCRIPTION:Hiring- Line Cook for Banquet & Restaurant \, Prep-cook\, Housekeeper supervisor\, Banquet Server\, Security\, and Front Desk Agent.
URL:https://www.palomar.edu/csdivision/event/career-coffee-hour-pala-mesa-resort/
LOCATION:SU Quad\, San Marcos
CATEGORIES:Career Center
ORGANIZER;CN="Rosie Antonecchia":MAILTO:rantonecchia@palomar.edu
END:VEVENT
END:VCALENDAR