BEGIN:VCALENDAR
VERSION:2.0
PRODID:-//Career Center - ECPv6.15.20//NONSGML v1.0//EN
CALSCALE:GREGORIAN
METHOD:PUBLISH
X-ORIGINAL-URL:https://www.palomar.edu/careercenter
X-WR-CALDESC:Events for Career Center
REFRESH-INTERVAL;VALUE=DURATION:PT1H
X-Robots-Tag:noindex
X-PUBLISHED-TTL:PT1H
BEGIN:VTIMEZONE
TZID:America/Los_Angeles
BEGIN:DAYLIGHT
TZOFFSETFROM:-0800
TZOFFSETTO:-0700
TZNAME:PDT
DTSTART:20230312T100000
END:DAYLIGHT
BEGIN:STANDARD
TZOFFSETFROM:-0700
TZOFFSETTO:-0800
TZNAME:PST
DTSTART:20231105T090000
END:STANDARD
BEGIN:DAYLIGHT
TZOFFSETFROM:-0800
TZOFFSETTO:-0700
TZNAME:PDT
DTSTART:20240310T100000
END:DAYLIGHT
BEGIN:STANDARD
TZOFFSETFROM:-0700
TZOFFSETTO:-0800
TZNAME:PST
DTSTART:20241103T090000
END:STANDARD
BEGIN:DAYLIGHT
TZOFFSETFROM:-0800
TZOFFSETTO:-0700
TZNAME:PDT
DTSTART:20250309T100000
END:DAYLIGHT
BEGIN:STANDARD
TZOFFSETFROM:-0700
TZOFFSETTO:-0800
TZNAME:PST
DTSTART:20251102T090000
END:STANDARD
END:VTIMEZONE
BEGIN:VEVENT
DTSTART;TZID=America/Los_Angeles:20241001T140000
DTEND;TZID=America/Los_Angeles:20241001T150000
DTSTAMP:20260423T115942
CREATED:20240920T212012Z
LAST-MODIFIED:20240920T212012Z
UID:10000084-1727791200-1727794800@www.palomar.edu
SUMMARY:Employment Assistance: Resume Writing Workshop
DESCRIPTION:Join this workshop to learn about how to write a resume to prepare for internships\, employment\, and scholarships.
URL:https://www.palomar.edu/careercenter/event/employment-assistance-resume-writing-workshop/
LOCATION:MC1-Career Services
CATEGORIES:Career,Main Calendar
END:VEVENT
BEGIN:VEVENT
DTSTART;TZID=America/Los_Angeles:20241003T123000
DTEND;TZID=America/Los_Angeles:20241003T133000
DTSTAMP:20260423T115942
CREATED:20240920T212327Z
LAST-MODIFIED:20251120T200846Z
UID:10000085-1727958600-1727962200@www.palomar.edu
SUMMARY:Employment Assistance: How to use Linkedin & other networking techniques
DESCRIPTION:Check out this workshop on how to use employment & internship programs such as LinkedIn and Handshake and learn about networking techniques!
URL:https://www.palomar.edu/careercenter/event/employment-assistance-how-to-use-linkedin-other-networking-techniques/
LOCATION:MC1-Career Services
CATEGORIES:Career,Main Calendar
END:VEVENT
BEGIN:VEVENT
DTSTART;TZID=America/Los_Angeles:20241017T113000
DTEND;TZID=America/Los_Angeles:20241017T123000
DTSTAMP:20260423T115942
CREATED:20240920T212805Z
LAST-MODIFIED:20240920T212805Z
UID:10000086-1729164600-1729168200@www.palomar.edu
SUMMARY:Employment Assistance: Service Learning Experience & Your Resume
DESCRIPTION:Come and learn about Service Learning and how these opportunities can enhance your resume! Available as Hyflex option.
URL:https://www.palomar.edu/careercenter/event/employment-assistance-service-learning-experience-your-resume/
LOCATION:TLC 112\, 1140 W. Mission Rd.\, San Marcos\, CA\, 92069
CATEGORIES:Career,Main Calendar
END:VEVENT
END:VCALENDAR