BEGIN:VCALENDAR
VERSION:2.0
PRODID:-//Career Center - ECPv6.15.20//NONSGML v1.0//EN
CALSCALE:GREGORIAN
METHOD:PUBLISH
X-ORIGINAL-URL:https://www.palomar.edu/careercenter
X-WR-CALDESC:Events for Career Center
REFRESH-INTERVAL;VALUE=DURATION:PT1H
X-Robots-Tag:noindex
X-PUBLISHED-TTL:PT1H
BEGIN:VTIMEZONE
TZID:America/Los_Angeles
BEGIN:DAYLIGHT
TZOFFSETFROM:-0800
TZOFFSETTO:-0700
TZNAME:PDT
DTSTART:20220313T100000
END:DAYLIGHT
BEGIN:STANDARD
TZOFFSETFROM:-0700
TZOFFSETTO:-0800
TZNAME:PST
DTSTART:20221106T090000
END:STANDARD
BEGIN:DAYLIGHT
TZOFFSETFROM:-0800
TZOFFSETTO:-0700
TZNAME:PDT
DTSTART:20230312T100000
END:DAYLIGHT
BEGIN:STANDARD
TZOFFSETFROM:-0700
TZOFFSETTO:-0800
TZNAME:PST
DTSTART:20231105T090000
END:STANDARD
BEGIN:DAYLIGHT
TZOFFSETFROM:-0800
TZOFFSETTO:-0700
TZNAME:PDT
DTSTART:20240310T100000
END:DAYLIGHT
BEGIN:STANDARD
TZOFFSETFROM:-0700
TZOFFSETTO:-0800
TZNAME:PST
DTSTART:20241103T090000
END:STANDARD
BEGIN:DAYLIGHT
TZOFFSETFROM:-0800
TZOFFSETTO:-0700
TZNAME:PDT
DTSTART:20250309T100000
END:DAYLIGHT
BEGIN:STANDARD
TZOFFSETFROM:-0700
TZOFFSETTO:-0800
TZNAME:PST
DTSTART:20251102T090000
END:STANDARD
BEGIN:DAYLIGHT
TZOFFSETFROM:-0800
TZOFFSETTO:-0700
TZNAME:PDT
DTSTART:20260308T100000
END:DAYLIGHT
BEGIN:STANDARD
TZOFFSETFROM:-0700
TZOFFSETTO:-0800
TZNAME:PST
DTSTART:20261101T090000
END:STANDARD
END:VTIMEZONE
BEGIN:VEVENT
DTSTART;TZID=America/Los_Angeles:20251029T100000
DTEND;TZID=America/Los_Angeles:20251029T130000
DTSTAMP:20260421T141831
CREATED:20250827T170923Z
LAST-MODIFIED:20250827T170935Z
UID:10000125-1761732000-1761742800@www.palomar.edu
SUMMARY:Trades & Industry Career Fair
DESCRIPTION:Trades & Industry Career Fair \nRegistration on Handshake is recommended but not required \nLocation: T Building \nSee you there!!
URL:https://www.palomar.edu/careercenter/event/trades-industry-career-fair-tba/
LOCATION:T Building
CATEGORIES:Career,Main Calendar
END:VEVENT
BEGIN:VEVENT
DTSTART;TZID=America/Los_Angeles:20251023T123000
DTEND;TZID=America/Los_Angeles:20251023T133000
DTSTAMP:20260421T141831
CREATED:20250827T170548Z
LAST-MODIFIED:20250827T170548Z
UID:10000124-1761222600-1761226200@www.palomar.edu
SUMMARY:How To Prepare for a Career Fair & Developing your Elevator Pitch
DESCRIPTION:How To Prepare for a Career Fair & Developing your Elevator Pitch \nRegistration on Handshake is recommended but not required \nLocation: MC Building \nSee you there!!
URL:https://www.palomar.edu/careercenter/event/how-to-prepare-for-a-career-fair-developing-your-elevator-pitch/2025-10-23/
LOCATION:MC Building\, Palomar College\, San Marcos
CATEGORIES:Career,Main Calendar
END:VEVENT
BEGIN:VEVENT
DTSTART;TZID=America/Los_Angeles:20251022T123000
DTEND;TZID=America/Los_Angeles:20251022T133000
DTSTAMP:20260421T141831
CREATED:20250827T170548Z
LAST-MODIFIED:20250827T170548Z
UID:10000123-1761136200-1761139800@www.palomar.edu
SUMMARY:How To Prepare for a Career Fair & Developing your Elevator Pitch
DESCRIPTION:How To Prepare for a Career Fair & Developing your Elevator Pitch \nRegistration on Handshake is recommended but not required \nLocation: MC Building \nSee you there!!
URL:https://www.palomar.edu/careercenter/event/how-to-prepare-for-a-career-fair-developing-your-elevator-pitch/2025-10-22/
LOCATION:MC Building\, Palomar College\, San Marcos
CATEGORIES:Career,Main Calendar
END:VEVENT
BEGIN:VEVENT
DTSTART;TZID=America/Los_Angeles:20251016T123000
DTEND;TZID=America/Los_Angeles:20251016T133000
DTSTAMP:20260421T141831
CREATED:20250827T170141Z
LAST-MODIFIED:20250827T170141Z
UID:10000122-1760617800-1760621400@www.palomar.edu
SUMMARY:Learning about Careers (Employer/Career Panel)
DESCRIPTION:Learning about Careers (Employer/Career Panel) \nRegistration on Handshake is recommended but not required \nLocation: MC Building \nSee you there!!
URL:https://www.palomar.edu/careercenter/event/learning-about-careers-employer-career-panel/2025-10-16/
LOCATION:MC Building\, Palomar College\, San Marcos
CATEGORIES:Career,Main Calendar
END:VEVENT
BEGIN:VEVENT
DTSTART;TZID=America/Los_Angeles:20251015T123000
DTEND;TZID=America/Los_Angeles:20251015T133000
DTSTAMP:20260421T141831
CREATED:20250827T170141Z
LAST-MODIFIED:20250827T170141Z
UID:10000121-1760531400-1760535000@www.palomar.edu
SUMMARY:Learning about Careers (Employer/Career Panel)
DESCRIPTION:Learning about Careers (Employer/Career Panel) \nRegistration on Handshake is recommended but not required \nLocation: MC Building \nSee you there!!
URL:https://www.palomar.edu/careercenter/event/learning-about-careers-employer-career-panel/2025-10-15/
LOCATION:MC Building\, Palomar College\, San Marcos
CATEGORIES:Career,Main Calendar
END:VEVENT
BEGIN:VEVENT
DTSTART;TZID=America/Los_Angeles:20251009T123000
DTEND;TZID=America/Los_Angeles:20251009T133000
DTSTAMP:20260421T141831
CREATED:20250913T005447Z
LAST-MODIFIED:20251120T193315Z
UID:10000136-1760013000-1760016600@www.palomar.edu
SUMMARY:Career Center Event: Resumania Workshop
DESCRIPTION:Learn about what you need to know about creating\, building and improving your resume that will land you a job! \nRegistration on Handshake is recommended but not required \nAdditional Career Center Events (Fall 2025) \nLocation: MC Building \nSee you there!!
URL:https://www.palomar.edu/careercenter/event/career-center-event-resumania-workshop/2025-10-09/
LOCATION:MC1-Career Services
CATEGORIES:Main Calendar
END:VEVENT
BEGIN:VEVENT
DTSTART;TZID=America/Los_Angeles:20251009T123000
DTEND;TZID=America/Los_Angeles:20251009T133000
DTSTAMP:20260421T141831
CREATED:20250827T165728Z
LAST-MODIFIED:20250827T165728Z
UID:10000120-1760013000-1760016600@www.palomar.edu
SUMMARY:Resumania Workshop
DESCRIPTION:Resumania Workshop \nRegistration on Handshake is recommended but not required \nLocation: MC Building \nSee you there!!
URL:https://www.palomar.edu/careercenter/event/resumania-workshop-2/2025-10-09/
LOCATION:MC Building\, Palomar College\, San Marcos
CATEGORIES:Career,Main Calendar
END:VEVENT
BEGIN:VEVENT
DTSTART;TZID=America/Los_Angeles:20251008T123000
DTEND;TZID=America/Los_Angeles:20251008T133000
DTSTAMP:20260421T141831
CREATED:20250913T005447Z
LAST-MODIFIED:20251120T193315Z
UID:10000135-1759926600-1759930200@www.palomar.edu
SUMMARY:Career Center Event: Resumania Workshop
DESCRIPTION:Learn about what you need to know about creating\, building and improving your resume that will land you a job! \nRegistration on Handshake is recommended but not required \nAdditional Career Center Events (Fall 2025) \nLocation: MC Building \nSee you there!!
URL:https://www.palomar.edu/careercenter/event/career-center-event-resumania-workshop/2025-10-08/
LOCATION:MC1-Career Services
CATEGORIES:Main Calendar
END:VEVENT
BEGIN:VEVENT
DTSTART;TZID=America/Los_Angeles:20251008T123000
DTEND;TZID=America/Los_Angeles:20251008T133000
DTSTAMP:20260421T141831
CREATED:20250827T165728Z
LAST-MODIFIED:20250827T165728Z
UID:10000119-1759926600-1759930200@www.palomar.edu
SUMMARY:Resumania Workshop
DESCRIPTION:Resumania Workshop \nRegistration on Handshake is recommended but not required \nLocation: MC Building \nSee you there!!
URL:https://www.palomar.edu/careercenter/event/resumania-workshop-2/2025-10-08/
LOCATION:MC Building\, Palomar College\, San Marcos
CATEGORIES:Career,Main Calendar
END:VEVENT
BEGIN:VEVENT
DTSTART;TZID=America/Los_Angeles:20251002T123000
DTEND;TZID=America/Los_Angeles:20251002T133000
DTSTAMP:20260421T141831
CREATED:20250913T005832Z
LAST-MODIFIED:20251120T193427Z
UID:10000134-1759408200-1759411800@www.palomar.edu
SUMMARY:Career Center Event: Gaining Work Experience
DESCRIPTION:Attend this workshop to learn about how to build work-related experience through Internships\, Volunteering and Service Learning activities. \nRegistration on Handshake is recommended but not required \nLocation: MC Building \nSee you there!! \nView the Career Center Fall 2025 Event Schedule
URL:https://www.palomar.edu/careercenter/event/career-center-event-gaining-work-experience/2025-10-02/
LOCATION:MC1-Career Services
CATEGORIES:Main Calendar
END:VEVENT
BEGIN:VEVENT
DTSTART;TZID=America/Los_Angeles:20251001T123000
DTEND;TZID=America/Los_Angeles:20251001T133000
DTSTAMP:20260421T141831
CREATED:20250913T005832Z
LAST-MODIFIED:20251120T193427Z
UID:10000133-1759321800-1759325400@www.palomar.edu
SUMMARY:Career Center Event: Gaining Work Experience
DESCRIPTION:Attend this workshop to learn about how to build work-related experience through Internships\, Volunteering and Service Learning activities. \nRegistration on Handshake is recommended but not required \nLocation: MC Building \nSee you there!! \nView the Career Center Fall 2025 Event Schedule
URL:https://www.palomar.edu/careercenter/event/career-center-event-gaining-work-experience/2025-10-01/
LOCATION:MC1-Career Services
CATEGORIES:Main Calendar
END:VEVENT
BEGIN:VEVENT
DTSTART;TZID=America/Los_Angeles:20250925T123000
DTEND;TZID=America/Los_Angeles:20250925T133000
DTSTAMP:20260421T141831
CREATED:20250913T005447Z
LAST-MODIFIED:20251120T193315Z
UID:10000132-1758803400-1758807000@www.palomar.edu
SUMMARY:Career Center Event: Resumania Workshop
DESCRIPTION:Learn about what you need to know about creating\, building and improving your resume that will land you a job! \nRegistration on Handshake is recommended but not required \nAdditional Career Center Events (Fall 2025) \nLocation: MC Building \nSee you there!!
URL:https://www.palomar.edu/careercenter/event/career-center-event-resumania-workshop/2025-09-25/
LOCATION:MC1-Career Services
CATEGORIES:Main Calendar
END:VEVENT
BEGIN:VEVENT
DTSTART;TZID=America/Los_Angeles:20250925T123000
DTEND;TZID=America/Los_Angeles:20250925T133000
DTSTAMP:20260421T141831
CREATED:20250827T165429Z
LAST-MODIFIED:20250827T165429Z
UID:10000116-1758803400-1758807000@www.palomar.edu
SUMMARY:Resumania Workshop
DESCRIPTION:Resumania Workshop \nRegistration on Handshake is recommended but not required \nLocation: MC Building \nSee you there!!
URL:https://www.palomar.edu/careercenter/event/resumania-workshop/2025-09-25/
LOCATION:MC Building\, Palomar College\, San Marcos
CATEGORIES:Career,Main Calendar
END:VEVENT
BEGIN:VEVENT
DTSTART;TZID=America/Los_Angeles:20250924T160000
DTEND;TZID=America/Los_Angeles:20250924T170000
DTSTAMP:20260421T141831
CREATED:20250911T222424Z
LAST-MODIFIED:20251120T193649Z
UID:10000128-1758729600-1758733200@www.palomar.edu
SUMMARY:Virtual Info Session-Spring 26 Internship Opportunity: Work Experience in K-12 Education
DESCRIPTION:The K-16 Collaborative Border Region Talent Pipeline is pleased to announce a second year of the K-16 Collaborative Education Work Experience Programfor undergraduate students interested in pursuing teaching careers in K-12 education! \nSpring 2026 program highlights to share with students: \n\nPlacements are available with local K-12 educational agencies (LEAs) throughout San Diego and Imperial counties at elementary\, middle and high school sites\nPositions are for tutors and instructional aides. Local high school districts are seeking subject matter experts in a wide range of content areas\, including Mathematics\, English\, AVID\, Science\, History\, and CE/CTE.\nStudents are paid $20/hour for up to 240 hours (includes training and ongoing support)\nThe student application is open from September 27 – October 26\, 2025\n\nStudents can check out the website for timeline and FAQs\n\n\nTo learn more about the program\, a virtual Student Information Session is scheduled on:\n\nWednesday\, September 24th at 4-5pm\n\n\n\nStudents with a background in STEM are in especially high demand in K-12 education and are encouraged to apply! Please share the attached flyer with students and encourage them to sign up on our INTEREST LIST (students who sign up on the interest list will receive a Zoom link to the Student Information Session on Sept 24th).
URL:https://www.palomar.edu/careercenter/event/virtual-info-session-spring-26-internship-opportunity-work-experience-in-k-12-education/
LOCATION:Virtual\, United States
CATEGORIES:Behavioral Sciences,Career,Chemistry,Child Development,Main Calendar,Physics and Engineering,STEM,STEM
END:VEVENT
BEGIN:VEVENT
DTSTART;TZID=America/Los_Angeles:20250924T123000
DTEND;TZID=America/Los_Angeles:20250924T133000
DTSTAMP:20260421T141831
CREATED:20250913T005447Z
LAST-MODIFIED:20251120T193315Z
UID:10000131-1758717000-1758720600@www.palomar.edu
SUMMARY:Career Center Event: Resumania Workshop
DESCRIPTION:Learn about what you need to know about creating\, building and improving your resume that will land you a job! \nRegistration on Handshake is recommended but not required \nAdditional Career Center Events (Fall 2025) \nLocation: MC Building \nSee you there!!
URL:https://www.palomar.edu/careercenter/event/career-center-event-resumania-workshop/2025-09-24/
LOCATION:MC1-Career Services
CATEGORIES:Main Calendar
END:VEVENT
BEGIN:VEVENT
DTSTART;TZID=America/Los_Angeles:20250924T123000
DTEND;TZID=America/Los_Angeles:20250924T133000
DTSTAMP:20260421T141831
CREATED:20250827T165429Z
LAST-MODIFIED:20250827T165429Z
UID:10000115-1758717000-1758720600@www.palomar.edu
SUMMARY:Resumania Workshop
DESCRIPTION:Resumania Workshop \nRegistration on Handshake is recommended but not required \nLocation: MC Building \nSee you there!!
URL:https://www.palomar.edu/careercenter/event/resumania-workshop/2025-09-24/
LOCATION:MC Building\, Palomar College\, San Marcos
CATEGORIES:Career,Main Calendar
END:VEVENT
BEGIN:VEVENT
DTSTART;TZID=America/Los_Angeles:20250918T123000
DTEND;TZID=America/Los_Angeles:20250918T133000
DTSTAMP:20260421T141831
CREATED:20250913T005042Z
LAST-MODIFIED:20251120T193242Z
UID:10000130-1758198600-1758202200@www.palomar.edu
SUMMARY:Career Center Event: Handshake & Headshots
DESCRIPTION:Learn about technology available that connects you to employers and employment/volunteer/internship opportunities. You will be also be able to learn about how to obtain a headshot to feature on your Handshake Profile! \nRegistration on Handshake is recommended but not required \nAdditional Career Center Events (Fall 2025) \nLocation: MC Building \nSee you there!!
URL:https://www.palomar.edu/careercenter/event/career-center-event-handshake-headshots/2025-09-18/
LOCATION:MC1-Career Services
CATEGORIES:Main Calendar
END:VEVENT
BEGIN:VEVENT
DTSTART;TZID=America/Los_Angeles:20250918T123000
DTEND;TZID=America/Los_Angeles:20250918T133000
DTSTAMP:20260421T141831
CREATED:20250827T165255Z
LAST-MODIFIED:20250827T165255Z
UID:10000114-1758198600-1758202200@www.palomar.edu
SUMMARY:Handshake & Headshots
DESCRIPTION:Handshake & Headshots \nRegistration on Handshake is recommended but not required \nLocation: MC Building \nSee you there!!
URL:https://www.palomar.edu/careercenter/event/handshake-headshots/2025-09-18/
CATEGORIES:Career,Main Calendar
END:VEVENT
BEGIN:VEVENT
DTSTART;TZID=America/Los_Angeles:20250917T123000
DTEND;TZID=America/Los_Angeles:20250917T133000
DTSTAMP:20260421T141831
CREATED:20251120T193113Z
LAST-MODIFIED:20251120T193114Z
UID:10000129-1758112200-1758115800@www.palomar.edu
SUMMARY:Career Center Event: Handshake & Headshots
DESCRIPTION:Learn about technology available that connects you to employers and employment/volunteer/internship opportunities. You will be also be able to learn about how to obtain a headshot to feature on your Handshake Profile! \nRegistration on Handshake is recommended but not required \nAdditional Career Center Events (Fall 2025) \nLocation: MC Building \nSee you there!!
URL:https://www.palomar.edu/careercenter/event/career-center-event-handshake-headshots-2/
LOCATION:MC1-Career Services
CATEGORIES:Main Calendar
END:VEVENT
BEGIN:VEVENT
DTSTART;TZID=America/Los_Angeles:20250917T123000
DTEND;TZID=America/Los_Angeles:20250917T133000
DTSTAMP:20260421T141831
CREATED:20250827T165255Z
LAST-MODIFIED:20250827T165255Z
UID:10000113-1758112200-1758115800@www.palomar.edu
SUMMARY:Handshake & Headshots
DESCRIPTION:Handshake & Headshots \nRegistration on Handshake is recommended but not required \nLocation: MC Building \nSee you there!!
URL:https://www.palomar.edu/careercenter/event/handshake-headshots/2025-09-17/
CATEGORIES:Career,Main Calendar
END:VEVENT
BEGIN:VEVENT
DTSTART;TZID=America/Los_Angeles:20250911T123000
DTEND;TZID=America/Los_Angeles:20250911T133000
DTSTAMP:20260421T141831
CREATED:20250909T200854Z
LAST-MODIFIED:20250909T200854Z
UID:10000126-1757593800-1757597400@www.palomar.edu
SUMMARY:Career Pathways & Major Exploration
DESCRIPTION:Career Pathways & Major Exploration \nRegistration on Handshake is recommended but not required \nLocation: MC Building \nSee you there!!
URL:https://www.palomar.edu/careercenter/event/career-pathways-major-exploration-3/
LOCATION:MC Building\, Palomar College\, San Marcos
CATEGORIES:Career,Main Calendar
END:VEVENT
BEGIN:VEVENT
DTSTART;TZID=America/Los_Angeles:20250910T123000
DTEND;TZID=America/Los_Angeles:20250910T133000
DTSTAMP:20260421T141831
CREATED:20250909T200922Z
LAST-MODIFIED:20250909T200939Z
UID:10000112-1757507400-1757511000@www.palomar.edu
SUMMARY:Career Pathways & Major Exploration
DESCRIPTION:Career Pathways & Major Exploration \nRegistration on Handshake is recommended but not required \nLocation: MC Building \nSee you there!!
URL:https://www.palomar.edu/careercenter/event/career-pathways-major-exploration-5/
LOCATION:MC Building\, Palomar College\, San Marcos
CATEGORIES:Career,Main Calendar
END:VEVENT
BEGIN:VEVENT
DTSTART;TZID=America/Los_Angeles:20250904T103000
DTEND;TZID=America/Los_Angeles:20250904T130000
DTSTAMP:20260421T141831
CREATED:20250826T235603Z
LAST-MODIFIED:20250826T235603Z
UID:10000110-1756981800-1756990800@www.palomar.edu
SUMMARY:Service Learning Fair
DESCRIPTION:Service Learning Fair (10:30AM-1PM) \nRegistration preferred but not required – register here: Handshake! \n\nLocation: Clock Tower \nContact: Service Learning for additional questions! \nSee you there!!
URL:https://www.palomar.edu/careercenter/event/service-learning-fair/
LOCATION:Clock Tower\, 1140 W MISSION RD\, SAN MARCOS\, CA\, 92069\, United States
CATEGORIES:Career,Main Calendar
END:VEVENT
BEGIN:VEVENT
DTSTART;TZID=America/Los_Angeles:20241017T113000
DTEND;TZID=America/Los_Angeles:20241017T123000
DTSTAMP:20260421T141831
CREATED:20240920T212805Z
LAST-MODIFIED:20240920T212805Z
UID:10000086-1729164600-1729168200@www.palomar.edu
SUMMARY:Employment Assistance: Service Learning Experience & Your Resume
DESCRIPTION:Come and learn about Service Learning and how these opportunities can enhance your resume! Available as Hyflex option.
URL:https://www.palomar.edu/careercenter/event/employment-assistance-service-learning-experience-your-resume/
LOCATION:TLC 112\, 1140 W. Mission Rd.\, San Marcos\, CA\, 92069
CATEGORIES:Career,Main Calendar
END:VEVENT
BEGIN:VEVENT
DTSTART;TZID=America/Los_Angeles:20241003T123000
DTEND;TZID=America/Los_Angeles:20241003T133000
DTSTAMP:20260421T141831
CREATED:20240920T212327Z
LAST-MODIFIED:20251120T200846Z
UID:10000085-1727958600-1727962200@www.palomar.edu
SUMMARY:Employment Assistance: How to use Linkedin & other networking techniques
DESCRIPTION:Check out this workshop on how to use employment & internship programs such as LinkedIn and Handshake and learn about networking techniques!
URL:https://www.palomar.edu/careercenter/event/employment-assistance-how-to-use-linkedin-other-networking-techniques/
LOCATION:MC1-Career Services
CATEGORIES:Career,Main Calendar
END:VEVENT
BEGIN:VEVENT
DTSTART;TZID=America/Los_Angeles:20241001T140000
DTEND;TZID=America/Los_Angeles:20241001T150000
DTSTAMP:20260421T141831
CREATED:20240920T212012Z
LAST-MODIFIED:20240920T212012Z
UID:10000084-1727791200-1727794800@www.palomar.edu
SUMMARY:Employment Assistance: Resume Writing Workshop
DESCRIPTION:Join this workshop to learn about how to write a resume to prepare for internships\, employment\, and scholarships.
URL:https://www.palomar.edu/careercenter/event/employment-assistance-resume-writing-workshop/
LOCATION:MC1-Career Services
CATEGORIES:Career,Main Calendar
END:VEVENT
BEGIN:VEVENT
DTSTART;TZID=America/Los_Angeles:20240925T123000
DTEND;TZID=America/Los_Angeles:20240925T143000
DTSTAMP:20260421T141831
CREATED:20240920T202207Z
LAST-MODIFIED:20251110T200725Z
UID:10000083-1727267400-1727274600@www.palomar.edu
SUMMARY:Administration of Justice Career Fair
DESCRIPTION:Administration of Justice Career Fair \nMeet employers & Explore Career Opportunities within this field! \nInvestigations\, Law Enforcement\, Homeland Security and more! \nComets: Your safety and well-being are paramount to us. Please note that the presence of law enforcement at this event is strictly for the purpose of discussing employment opportunities and various career paths with students. \nstudent AJ Career Fair flyer[95]
URL:https://www.palomar.edu/careercenter/event/administration-of-justice-career-fair/
LOCATION:LRC-438
CATEGORIES:Career,Main Calendar
END:VEVENT
BEGIN:VEVENT
DTSTART;TZID=America/Los_Angeles:20231130T173000
DTEND;TZID=America/Los_Angeles:20231130T183000
DTSTAMP:20260421T141831
CREATED:20231110T012016Z
LAST-MODIFIED:20231110T013824Z
UID:10000074-1701365400-1701369000@www.palomar.edu
SUMMARY:First Generation Celebration: Como Hacer Un Curriculum De Trabajo
DESCRIPTION:Su resume y carta de presentación son la primera impresión que los posibles empleadores tendrán de usted. Únase a nuestro taller interactivo para aprender las habilidades y estrategias necesarias para crear un resume y cartas de presentación atractivos y efectivos. \n  \nThis presentation will be conducted in Spanish
URL:https://www.palomar.edu/careercenter/event/first-generation-celebration-como-hacer-un-curriculum-de-trabajo/
LOCATION:Escondido Center (ESC-101)\, 1951 East Valley Parkway\, Escondido\, CA 92027\, CA\, 92027\, United States
CATEGORIES:Career,Main Calendar
END:VEVENT
BEGIN:VEVENT
DTSTART;TZID=America/Los_Angeles:20231130T100000
DTEND;TZID=America/Los_Angeles:20231130T110000
DTSTAMP:20260421T141831
CREATED:20231110T011323Z
LAST-MODIFIED:20231110T011323Z
UID:10000073-1701338400-1701342000@www.palomar.edu
SUMMARY:First Generation Celebration: Explore Internships and Fellowships
DESCRIPTION:Whether you’re contemplating an internship to gain invaluable hands-on experience or aspiring to secure a fellowship to advance your research and studies\, this workshop is a good opportunity to learn about the world of professional development. This session will be offered in person and via Zoom (Hyflex)
URL:https://www.palomar.edu/careercenter/event/first-generation-celebration-explore-internships-and-fellowships/
LOCATION:LRC-116
CATEGORIES:Career,Main Calendar
END:VEVENT
BEGIN:VEVENT
DTSTART;TZID=America/Los_Angeles:20231129T120000
DTEND;TZID=America/Los_Angeles:20231129T133000
DTSTAMP:20260421T141831
CREATED:20231110T011101Z
LAST-MODIFIED:20231110T011101Z
UID:10000072-1701259200-1701264600@www.palomar.edu
SUMMARY:First Generation Employee Journey & Networking
DESCRIPTION:This gathering will feature first-generation professionals from diverse backgrounds sharing their personal stories and experiences\, offering valuable insights into their journey within the workplace.
URL:https://www.palomar.edu/careercenter/event/first-generation-employee-journey-networking/
LOCATION:MD-131
CATEGORIES:Career,Main Calendar
END:VEVENT
END:VCALENDAR