BEGIN:VCALENDAR
VERSION:2.0
PRODID:-//Career Center - ECPv6.15.20//NONSGML v1.0//EN
CALSCALE:GREGORIAN
METHOD:PUBLISH
X-WR-CALNAME:Career Center
X-ORIGINAL-URL:https://www.palomar.edu/careercenter
X-WR-CALDESC:Events for Career Center
REFRESH-INTERVAL;VALUE=DURATION:PT1H
X-Robots-Tag:noindex
X-PUBLISHED-TTL:PT1H
BEGIN:VTIMEZONE
TZID:America/Los_Angeles
BEGIN:DAYLIGHT
TZOFFSETFROM:-0800
TZOFFSETTO:-0700
TZNAME:PDT
DTSTART:20250309T100000
END:DAYLIGHT
BEGIN:STANDARD
TZOFFSETFROM:-0700
TZOFFSETTO:-0800
TZNAME:PST
DTSTART:20251102T090000
END:STANDARD
BEGIN:DAYLIGHT
TZOFFSETFROM:-0800
TZOFFSETTO:-0700
TZNAME:PDT
DTSTART:20260308T100000
END:DAYLIGHT
BEGIN:STANDARD
TZOFFSETFROM:-0700
TZOFFSETTO:-0800
TZNAME:PST
DTSTART:20261101T090000
END:STANDARD
BEGIN:DAYLIGHT
TZOFFSETFROM:-0800
TZOFFSETTO:-0700
TZNAME:PDT
DTSTART:20270314T100000
END:DAYLIGHT
BEGIN:STANDARD
TZOFFSETFROM:-0700
TZOFFSETTO:-0800
TZNAME:PST
DTSTART:20271107T090000
END:STANDARD
END:VTIMEZONE
BEGIN:VEVENT
DTSTART;TZID=America/Los_Angeles:20260423T110000
DTEND;TZID=America/Los_Angeles:20260423T120000
DTSTAMP:20260423T013219
CREATED:20260219T000654Z
LAST-MODIFIED:20260219T000738Z
UID:10000158-1776942000-1776945600@www.palomar.edu
SUMMARY:Skillshop: Navigating Your Service Learning Class (Virtual Only)
DESCRIPTION:Come learn what Service Learning is at Palomar College. Learn about the different Service Learning opportunities in the community. \nThis skillshop will be offered virtually via Zoom. To register click on the website link below. \nSkillshops are FREE and open to all Palomar College students.
URL:https://www.palomar.edu/careercenter/event/skillshop-navigating-your-service-learning-class-virtual-only/
LOCATION:Virtual\, United States
END:VEVENT
END:VCALENDAR