BEGIN:VCALENDAR
VERSION:2.0
PRODID:-//Career Center - ECPv6.15.20//NONSGML v1.0//EN
CALSCALE:GREGORIAN
METHOD:PUBLISH
X-WR-CALNAME:Career Center
X-ORIGINAL-URL:https://www.palomar.edu/careercenter
X-WR-CALDESC:Events for Career Center
REFRESH-INTERVAL;VALUE=DURATION:PT1H
X-Robots-Tag:noindex
X-PUBLISHED-TTL:PT1H
BEGIN:VTIMEZONE
TZID:America/Los_Angeles
BEGIN:DAYLIGHT
TZOFFSETFROM:-0800
TZOFFSETTO:-0700
TZNAME:PDT
DTSTART:20250309T100000
END:DAYLIGHT
BEGIN:STANDARD
TZOFFSETFROM:-0700
TZOFFSETTO:-0800
TZNAME:PST
DTSTART:20251102T090000
END:STANDARD
BEGIN:DAYLIGHT
TZOFFSETFROM:-0800
TZOFFSETTO:-0700
TZNAME:PDT
DTSTART:20260308T100000
END:DAYLIGHT
BEGIN:STANDARD
TZOFFSETFROM:-0700
TZOFFSETTO:-0800
TZNAME:PST
DTSTART:20261101T090000
END:STANDARD
BEGIN:DAYLIGHT
TZOFFSETFROM:-0800
TZOFFSETTO:-0700
TZNAME:PDT
DTSTART:20270314T100000
END:DAYLIGHT
BEGIN:STANDARD
TZOFFSETFROM:-0700
TZOFFSETTO:-0800
TZNAME:PST
DTSTART:20271107T090000
END:STANDARD
END:VTIMEZONE
BEGIN:VEVENT
DTSTART;TZID=America/Los_Angeles:20260422T110000
DTEND;TZID=America/Los_Angeles:20260422T120000
DTSTAMP:20260422T013144
CREATED:20260219T000327Z
LAST-MODIFIED:20260421T195820Z
UID:10000157-1776855600-1776859200@www.palomar.edu
SUMMARY:Skillshop: Declaring Your Major and What It Means (Virtual Only)
DESCRIPTION:What’s your major\, goal\, program of study? What does this all mean? Come learn the differences between earning a certificate\, associate’s degree\, and getting ready for transfer. Thinking of changing your major? We will go over how to declare your major and potential financial aid impacts. Get help making an informed decision about your major! \nThis skillshop will be offered virtually via Zoom. To register click on the website link below. \nSkillshops are FREE and open to all Palomar College students.
URL:https://www.palomar.edu/careercenter/event/skillshop-declaring-your-major-and-what-it-means-virtual-only/
LOCATION:Virtual\, United States
END:VEVENT
BEGIN:VEVENT
DTSTART;TZID=America/Los_Angeles:20260422T130000
DTEND;TZID=America/Los_Angeles:20260422T170000
DTSTAMP:20260422T013144
CREATED:20260418T002843Z
LAST-MODIFIED:20260418T002843Z
UID:10000167-1776862800-1776877200@www.palomar.edu
SUMMARY:SmithGroup Architecture & Engineering Industry Day
DESCRIPTION:SmithGroup is opening its doors for an afternoon to students from local community colleges studying architecture\, interior design\, and engineering. \n  \nAgenda includes tour of the office\, presentations from design professionals\, coaching sessions with small groups\, and a networking mixer. \n  \nPlease bring a physical or digital portfolio if you would like to participate in the portfolio reviews and coaching sessions. \n  \nParking is not validated by SmithGroup. The office is located near trolley\, train\, and bus stops\, using public transit is highly encouraged.
URL:https://www.palomar.edu/careercenter/event/smithgroup-architecture-engineering-industry-day/
LOCATION:SmithGroup\, 550 West C Street\, #1600\, San Diego\, CA\, 92101\, United States
END:VEVENT
END:VCALENDAR