BEGIN:VCALENDAR
VERSION:2.0
PRODID:-//Business Administration Department - ECPv6.15.20//NONSGML v1.0//EN
CALSCALE:GREGORIAN
METHOD:PUBLISH
X-WR-CALNAME:Business Administration Department
X-ORIGINAL-URL:https://www.palomar.edu/business
X-WR-CALDESC:Events for Business Administration Department
REFRESH-INTERVAL;VALUE=DURATION:PT1H
X-Robots-Tag:noindex
X-PUBLISHED-TTL:PT1H
BEGIN:VTIMEZONE
TZID:America/Los_Angeles
BEGIN:DAYLIGHT
TZOFFSETFROM:-0800
TZOFFSETTO:-0700
TZNAME:PDT
DTSTART:20220313T100000
END:DAYLIGHT
BEGIN:STANDARD
TZOFFSETFROM:-0700
TZOFFSETTO:-0800
TZNAME:PST
DTSTART:20221106T090000
END:STANDARD
BEGIN:DAYLIGHT
TZOFFSETFROM:-0800
TZOFFSETTO:-0700
TZNAME:PDT
DTSTART:20230312T100000
END:DAYLIGHT
BEGIN:STANDARD
TZOFFSETFROM:-0700
TZOFFSETTO:-0800
TZNAME:PST
DTSTART:20231105T090000
END:STANDARD
BEGIN:DAYLIGHT
TZOFFSETFROM:-0800
TZOFFSETTO:-0700
TZNAME:PDT
DTSTART:20240310T100000
END:DAYLIGHT
BEGIN:STANDARD
TZOFFSETFROM:-0700
TZOFFSETTO:-0800
TZNAME:PST
DTSTART:20241103T090000
END:STANDARD
BEGIN:DAYLIGHT
TZOFFSETFROM:-0800
TZOFFSETTO:-0700
TZNAME:PDT
DTSTART:20250309T100000
END:DAYLIGHT
BEGIN:STANDARD
TZOFFSETFROM:-0700
TZOFFSETTO:-0800
TZNAME:PST
DTSTART:20251102T090000
END:STANDARD
END:VTIMEZONE
BEGIN:VEVENT
DTSTART;TZID=America/Los_Angeles:20241029T170000
DTEND;TZID=America/Los_Angeles:20241029T180000
DTSTAMP:20260424T155205
CREATED:20241022T202713Z
LAST-MODIFIED:20241022T202953Z
UID:10000010-1730221200-1730224800@www.palomar.edu
SUMMARY:Pathway to Law Information Session 10.29.2024
DESCRIPTION:Join us for another amazing Pathway to Law Information Session. October 29th 5:00 to 6:00 p.m. REGISTER HERE
URL:https://www.palomar.edu/business/event/6717/
LOCATION:Palomar College San Marcos\, 1140 West Mission Road\, San Marcos\, 92069\, USA
CATEGORIES:Main Calendar
ORGANIZER;CN="Business Administration Department":MAILTO:businessdepartment@palomar.edu
END:VEVENT
BEGIN:VEVENT
DTSTART;TZID=America/Los_Angeles:20241011T113000
DTEND;TZID=America/Los_Angeles:20241011T133000
DTSTAMP:20260424T155205
CREATED:20240910T181430Z
LAST-MODIFIED:20240910T184318Z
UID:10000007-1728646200-1728653400@www.palomar.edu
SUMMARY:INTERTRIBAL COURT OF SOUTHERN CALIFORNIA VISIT
DESCRIPTION:Visit the INTERTRIBAL COURT OF SOUTHERN CALIFORNIA
URL:https://www.palomar.edu/business/event/intertribal-court-of-southern-california-visit/
LOCATION:Palomar College San Marcos\, 1140 West Mission Road\, San Marcos\, 92069\, USA
CATEGORIES:Main Calendar
ORGANIZER;CN="Business Administration Department":MAILTO:businessdepartment@palomar.edu
END:VEVENT
BEGIN:VEVENT
DTSTART;TZID=America/Los_Angeles:20241008T133000
DTEND;TZID=America/Los_Angeles:20241008T150000
DTSTAMP:20260424T155205
CREATED:20240923T194919Z
LAST-MODIFIED:20240923T195129Z
UID:10000008-1728394200-1728399600@www.palomar.edu
SUMMARY:Transfer Information Session-University of Redlands
DESCRIPTION:
URL:https://www.palomar.edu/business/event/transfer-information-session-university-of-redlands/
LOCATION:Palomar College San Marcos\, 1140 West Mission Road\, San Marcos\, 92069\, USA
CATEGORIES:Main Calendar
ORGANIZER;CN="Business Administration Department":MAILTO:businessdepartment@palomar.edu
END:VEVENT
BEGIN:VEVENT
DTSTART;TZID=America/Los_Angeles:20240418T144500
DTEND;TZID=America/Los_Angeles:20240418T154500
DTSTAMP:20260424T155205
CREATED:20240409T215330Z
LAST-MODIFIED:20240410T164001Z
UID:10000006-1713451500-1713455100@www.palomar.edu
SUMMARY:University of Redlands informational meeting 04/18/2024
DESCRIPTION:Dear Students. \nJoin us next Thursday\, April 18th 2:45pm – 3:45 p.m. in room 305 or via zoom https://palomar-edu.zoom.us/j/6495119166 for an informational meeting with Perla Ramos\, Sr. Associate Director of Transfer Admission from University of Redlands.  \nYou will be able to ask any questions regarding transfer requirements\, financial aid\, tuition discount\, or just to learn about the Bachelor of Science in Business degree from Redlands University at Palomar College.  Space is limited\, to reserve your spot Register here or email BusinessDepartment@palomar.edu \n*Light refreshments and raffle gifts for those who attend in person.
URL:https://www.palomar.edu/business/event/redlands-university-informational-meeting-04-18-2024/
LOCATION:Palomar College San Marcos\, 1140 West Mission Road\, San Marcos\, 92069\, USA
ORGANIZER;CN="Business Administration Department":MAILTO:businessdepartment@palomar.edu
END:VEVENT
BEGIN:VEVENT
DTSTART;TZID=America/Los_Angeles:20230925T130000
DTEND;TZID=America/Los_Angeles:20230925T140000
DTSTAMP:20260424T155205
CREATED:20230912T180914Z
LAST-MODIFIED:20230912T180914Z
UID:10000002-1695646800-1695650400@www.palomar.edu
SUMMARY:Diversity Career Panel
DESCRIPTION:Diversity Career Panel – September 25\, 2023\, 1:00 -2:00 pm  Room MD-157  (Luch will be served). Come learn the ins and outs of being an attorney!  Our panelists will discuss their legal practice areas\, their paths to law\, and how to navigate workplace diversity issues in the professional world.  Ask questions and get answers.    Register Today:   https://lparanthaman.wufoo.com/forms/z59yc6l03trj93/
URL:https://www.palomar.edu/business/event/diversity-career-panel/
LOCATION:Palomar College San Marcos\, 1140 West Mission Road\, San Marcos\, 92069\, USA
CATEGORIES:Main Calendar
ORGANIZER;CN="Business Administration Department":MAILTO:businessdepartment@palomar.edu
END:VEVENT
BEGIN:VEVENT
DTSTART;TZID=America/Los_Angeles:20230915T130000
DTEND;TZID=America/Los_Angeles:20230915T143000
DTSTAMP:20260424T155205
CREATED:20230912T160518Z
LAST-MODIFIED:20230912T163412Z
UID:10000001-1694782800-1694788200@www.palomar.edu
SUMMARY:Constitution Day – September 15\, 2023
DESCRIPTION:Constitution Day – September 15\, 2023  14th Amendment Equal Protection Clause & the Recent Supreme Court UNC/Harvard Admissions Decision Join us online Friday\, September 15th from 1 – 2:30 pm PT(US and Canada) for a thoughtful and informative presentation on the recent Supreme Court decision regarding the United States Constitution’s 14th Amendment and the use of Affirmative Action in higher education admissions. \nPresenters\n\n\n\nThuy Thi Nguyen\, Advisory Board Chair\, California LAW and Partner\, Garcia Hernández Sawhney\, LLP\nJohn D. Traviña\, Immediate Past Chair\, University of San Francisco School of Law\nChalak Richards\, Dean of Students\, Diversity and Belonging\, Pepperdine Caruso School of Law  Registration Coming Soon! 
URL:https://www.palomar.edu/business/event/constitution-day-september-15-2023/
LOCATION:Palomar College San Marcos\, 1140 West Mission Road\, San Marcos\, 92069\, USA
CATEGORIES:Main Calendar
ORGANIZER;CN="Business Administration Department":MAILTO:businessdepartment@palomar.edu
END:VEVENT
END:VCALENDAR