BEGIN:VCALENDAR
VERSION:2.0
PRODID:-//Asian Pacific Alliance in Higher Education - ECPv6.15.20//NONSGML v1.0//EN
CALSCALE:GREGORIAN
METHOD:PUBLISH
X-WR-CALNAME:Asian Pacific Alliance in Higher Education
X-ORIGINAL-URL:https://www.palomar.edu/apahe
X-WR-CALDESC:Events for Asian Pacific Alliance in Higher Education
REFRESH-INTERVAL;VALUE=DURATION:PT1H
X-Robots-Tag:noindex
X-PUBLISHED-TTL:PT1H
BEGIN:VTIMEZONE
TZID:America/Los_Angeles
BEGIN:DAYLIGHT
TZOFFSETFROM:-0800
TZOFFSETTO:-0700
TZNAME:PDT
DTSTART:20250309T100000
END:DAYLIGHT
BEGIN:STANDARD
TZOFFSETFROM:-0700
TZOFFSETTO:-0800
TZNAME:PST
DTSTART:20251102T090000
END:STANDARD
BEGIN:DAYLIGHT
TZOFFSETFROM:-0800
TZOFFSETTO:-0700
TZNAME:PDT
DTSTART:20260308T100000
END:DAYLIGHT
BEGIN:STANDARD
TZOFFSETFROM:-0700
TZOFFSETTO:-0800
TZNAME:PST
DTSTART:20261101T090000
END:STANDARD
BEGIN:DAYLIGHT
TZOFFSETFROM:-0800
TZOFFSETTO:-0700
TZNAME:PDT
DTSTART:20270314T100000
END:DAYLIGHT
BEGIN:STANDARD
TZOFFSETFROM:-0700
TZOFFSETTO:-0800
TZNAME:PST
DTSTART:20271107T090000
END:STANDARD
END:VTIMEZONE
BEGIN:VEVENT
DTSTART;TZID=America/Los_Angeles:20260514T173000
DTEND;TZID=America/Los_Angeles:20260514T193000
DTSTAMP:20260422T120749
CREATED:20260420T183602Z
LAST-MODIFIED:20260420T183602Z
UID:10000018-1778779800-1778787000@www.palomar.edu
SUMMARY:4th Annual Asian American\, Native Hawaiian\, and Pacific Islander Graduates Celebration 2026
DESCRIPTION:We see you and the hard work you’ve dedicated to making your life\, family and community better. We are the Asian Pacific Alliance in Higher Education (APAHE) at Palomar College and we want to acknowledge your wonderful achievement in earning a certificate/degree!  The event will celebrate the accomplishments of Comet graduates who identify as Asian American\, Native Hawaiian\, and Pacific Islander. \n\nAPAHE Graduation Event
URL:https://www.palomar.edu/apahe/event/4th-annual-asian-american-native-hawaiian-and-pacific-islander-graduates-celebration-2026/
LOCATION:San Marcos Campus
CATEGORIES:Main Calendar
END:VEVENT
END:VCALENDAR